Felt | Verdi |
AlreadyApplied | True |
Aperture | 6.3 |
ApertureValue | 6.3 |
Artist | Dag Frode Holm |
BitsPerSample | 8 |
BlueHue | 0 |
BlueSaturation | 0 |
Brightness | +59 |
By-line | Dag Frode Holm |
CameraProfile | Adobe Standard |
ChromaticAberrationB | 0 |
ChromaticAberrationR | 0 |
CircleOfConfusion | 0.019 mm |
Clarity | +35 |
ColorComponents | 3 |
ColorMode | RGB |
ColorNoiseReduction | 25 |
ColorNoiseReductionDetail | 50 |
ColorSpace | Uncalibrated |
ColorTemperature | 7750 |
Contrast | +27 |
ConvertToGrayscale | False |
Copyright | Tlf 41418669 Vestre Totenveg 1230 2846 BOVRBRU. |
CopyrightNotice | Tlf 41418669 Vestre Totenveg 1230 2846 BOVRBRU. |
CreateDate (1) | 2012:03:18 11:52:04.00+01:00 |
CreateDate | 2012:03:18 11:52:04 |
Creator | Dag Frode Holm |
CropAngle | 0 |
CropBottom | 0.98679 |
CropLeft | 0.059859 |
CropRight | 1 |
CropTop | 0.124174 |
CustomRendered | Normal |
DateCreated (1) | 2012:03:18 |
DateCreated | 2012:03:18 11:52:04 |
DateTimeOriginal | 2012:03:18 11:52:04 |
Defringe | 0 |
DOF | 0.17 m (10.72 - 10.89 m) |
ExifImageHeight | 626 |
ExifImageWidth | 1024 |
Exposure | +0.45 |
ExposureCompensation | +2/3 |
ExposureMode | Auto |
ExposureProgram | Aperture-priority AE |
ExposureTime | 1/1250 |
FillLight | 0 |
Firmware | 1.2.5 |
Flash | Off, Did not fire |
FlashCompensation | 0 |
FNumber | 6.3 |
FocalLength | 400.0 mm |
FocalLength35efl | 400.0 mm (35 mm equivalent: 628.1 mm) |
Format | image/jpeg |
FOV | 3.3 deg |
GrainAmount | 0 |
GreenHue | 0 |
GreenSaturation | 0 |
HasCrop | True |
HasSettings | True |
HighlightRecovery | 97 |
HueAdjustmentAqua | 0 |
HueAdjustmentBlue | 0 |
HueAdjustmentGreen | 0 |
HueAdjustmentMagenta | 0 |
HueAdjustmentOrange | 0 |
HueAdjustmentPurple | 0 |
HueAdjustmentRed | 0 |
HueAdjustmentYellow | 0 |
HyperfocalDistance | 1327.33 m |
ICCProfileName | Adobe RGB (1998) |
ImageHeight | 626 |
ImageNumber | 0 |
ImageSize | 1024x626 |
ImageWidth | 1024 |
ISO | 400 |
Lens | EF100-400mm f/4.5-5.6L IS USM |
LensID (1) | 183 |
LensID | Canon EF 100-400mm f/4.5-5.6L IS USM or Sigma 100-400mm f/5-6.3 DG OS HSM |
LensInfo | 100-400mm f/? |
LightValue | 13.6 |
LuminanceAdjustmentAqua | 0 |
LuminanceAdjustmentBlue | 0 |
LuminanceAdjustmentGreen | 0 |
LuminanceAdjustmentMagenta | 0 |
LuminanceAdjustmentOrange | 0 |
LuminanceAdjustmentPurple | 0 |
LuminanceAdjustmentRed | 0 |
LuminanceAdjustmentYellow | 0 |
LuminanceNoiseReductionContrast | 0 |
LuminanceNoiseReductionDetail | 50 |
LuminanceSmoothing | 29 |
Make | Canon |
MaxApertureValue | 5.7 |
Megapixels | 0.641 |
MeteringMode | Partial |
Model | Canon EOS 7D |
ModifyDate (1) | 2012:03:20 20:52:01+01:00 |
ModifyDate | 2012:03:20 20:52:01 |
Orientation | Horizontal (normal) |
ParametricDarks | -8 |
ParametricHighlights | +11 |
ParametricHighlightSplit | 75 |
ParametricLights | +8 |
ParametricMidtoneSplit | 50 |
ParametricShadows | -5 |
ParametricShadowSplit | 25 |
PostCropVignetteAmount | 0 |
ProcessVersion | 5.7 |
ProfileDescription | Adobe RGB (1998) |
Rating | 0 |
RawFileName | _MG_4577.CR2 |
RedHue | 0 |
RedSaturation | 0 |
Rights | Tlf 41418669 Vestre Totenveg 1230 2846 BOVRBRU. |
Saturation | 0 |
SaturationAdjustmentAqua | 0 |
SaturationAdjustmentBlue | 0 |
SaturationAdjustmentGreen | 0 |
SaturationAdjustmentMagenta | 0 |
SaturationAdjustmentOrange | 0 |
SaturationAdjustmentPurple | 0 |
SaturationAdjustmentRed | 0 |
SaturationAdjustmentYellow | 0 |
ScaleFactor35efl | 1.6 |
SceneCaptureType | Standard |
SerialNumber | 1680802343 |
Shadows | 2 |
ShadowTint | 0 |
SharpenDetail | 47 |
SharpenEdgeMasking | 40 |
SharpenRadius | +1.0 |
Sharpness | 57 |
ShutterSpeed | 1/1250 |
ShutterSpeedValue | 1/1250 |
SidecarForExtension | CR2 |
Software | Adobe Photoshop CS5 Windows |
SplitToningBalance | 0 |
SplitToningHighlightHue | 0 |
SplitToningHighlightSaturation | 0 |
SplitToningShadowHue | 0 |
SplitToningShadowSaturation | 0 |
SubjectDistance | 10.8 m |
Tint | +8 |
ToneCurve | 0, 0, 32, 22, 64, 56, 128, 128, 192, 196, 255, 255 |
ToneCurveName | Medium Contrast |
URL_List | |
Version | 6.0 |
Vibrance | +18 |
VignetteAmount | 0 |
WhiteBalance (1) | Custom |
WhiteBalance | Manual |