Felt | Verdi |
AlreadyApplied | True |
Aperture | 2.8 |
ApertureValue | 2.8 |
ApproximateFocusDistance | 1.5 |
Artist | TOM E BJOLGERUD |
BitsPerSample | 8 |
BlueHue | 0 |
BlueSaturation | 0 |
Brightness | +30 |
By-line | TOM E BJOLGERUD |
CameraProfile | Adobe Standard |
CFAPattern | [Red,Green][Green,Blue] |
ChromaticAberrationB | 0 |
ChromaticAberrationR | 0 |
CircleOfConfusion | 0.030 mm |
Clarity | +30 |
ColorComponents | 3 |
ColorMode | RGB |
ColorNoiseReduction | 25 |
ColorNoiseReductionDetail | 50 |
ColorSpace | sRGB |
ColorTemperature | 3000 |
Contrast (1) | +45 |
Contrast | Normal |
ConvertToGrayscale | True |
Copyright | Tom E Bjolgerud |
CopyrightNotice | Tom E Bjolgerud |
CreateDate (1) | 2012:04:01 00:46:48.14 |
CreateDate | 2012:04:01 00:46:48 |
Creator | TOM E BJOLGERUD |
CreatorTool | Adobe Photoshop Lightroom 3.6 (Macintosh) |
CropAngle | 0 |
CropBottom | 0.939547 |
CropConstrainToWarp | 0 |
CropHeight | 2333 |
CropLeft | 0 |
CropRight | 0.823678 |
CropTop | 0.115869 |
CropUnit | pixels |
CropWidth | 3506 |
CustomRendered | Normal |
DateCreated | 2012:04:01 |
DateTimeDigitized | 2012:04:01 00:46:48+02:00 |
DateTimeOriginal (1) | 2012:04:01 00:46:48+02:00 |
DateTimeOriginal | 2012:04:01 00:46:48 |
Defringe | 0 |
DigitalZoomRatio | 1 |
DOF | 0.07 m (1.46 - 1.54 m) |
ExifImageHeight | 4224 |
ExifImageWidth | 3051 |
Exposure | +0.50 |
ExposureCompensation | 0 |
ExposureMode | Manual |
ExposureProgram | Manual |
ExposureTime | 1/100 |
FillLight | 15 |
Flash | No Flash |
FlashFired | False |
FlashFunction | False |
FlashMode | Unknown |
FlashRedEyeMode | False |
FlashReturn | No return detection |
FNumber | 2.8 |
FocalLength | 70.0 mm |
FocalLength35efl | 70.0 mm (35 mm equivalent: 70.0 mm) |
FocalLengthIn35mmFormat | 70 mm |
Format | image/jpeg |
FOV | 28.8 deg |
GainControl | High gain up |
GrainAmount | 0 |
GrayMixerAqua | -21 |
GrayMixerBlue | 0 |
GrayMixerGreen | -18 |
GrayMixerMagenta | +6 |
GrayMixerOrange | -6 |
GrayMixerPurple | +9 |
GrayMixerRed | 0 |
GrayMixerYellow | -9 |
GreenHue | 0 |
GreenSaturation | 0 |
HasCrop | True |
HasSettings | True |
HighlightRecovery | 0 |
HyperfocalDistance | 58.24 m |
ICCProfileName | sRGB IEC61966-2.1 |
ImageHeight | 4224 |
ImageNumber | 43081 |
ImageSize | 3051x4224 |
ImageWidth | 3051 |
ISO | 3200 |
Lens | 24.0-70.0 mm f/2.8 |
LensID (1) | 147 |
LensID | AF-S Zoom-Nikkor 24-70mm f/2.8G ED |
LensInfo | 24-70mm f/2.8 |
LensManualDistortionAmount | 0 |
LensModel | 24.0-70.0 mm f/2.8 |
LensProfileEnable | 0 |
LensProfileSetup | LensDefaults |
LightSource | Unknown |
LightValue | 4.6 |
LuminanceNoiseReductionContrast | 0 |
LuminanceNoiseReductionDetail | 50 |
LuminanceSmoothing | 15 |
Make | NIKON CORPORATION |
MaxApertureValue | 2.8 |
Megapixels | 12.9 |
MeteringMode | Spot |
Model | NIKON D700 |
ModifyDate (1) | 2012:04:01 00:21:21+02:00 |
ModifyDate | 2012:04:01 00:21:21 |
Orientation | Horizontal (normal) |
ParametricDarks | 0 |
ParametricHighlights | 0 |
ParametricHighlightSplit | 75 |
ParametricLights | 0 |
ParametricMidtoneSplit | 50 |
ParametricShadows | 0 |
ParametricShadowSplit | 25 |
PerspectiveHorizontal | 0 |
PerspectiveRotate | 0.0 |
PerspectiveScale | 100 |
PerspectiveVertical | 0 |
PostCropVignetteAmount | 0 |
ProcessVersion | 5.7 |
ProfileDescription | sRGB IEC61966-2.1 |
RedHue | 0 |
RedSaturation | 0 |
Rights | Tom E Bjolgerud |
Saturation | Normal |
ScaleFactor35efl | 1.0 |
SceneCaptureType | Standard |
SceneType | Directly photographed |
SensingMethod | One-chip color area |
SerialNumber | 2122595 |
Shadows | 8 |
ShadowTint | 0 |
SharpenDetail | 25 |
SharpenEdgeMasking | 65 |
SharpenRadius | +1.0 |
Sharpness (1) | 50 |
Sharpness | Normal |
ShutterSpeed | 1/100 |
ShutterSpeedValue | 1/100 |
Software | Adobe Photoshop Elements 9.0 Macintosh |
SplitToningBalance | 0 |
SplitToningHighlightHue | 0 |
SplitToningHighlightSaturation | 0 |
SplitToningShadowHue | 0 |
SplitToningShadowSaturation | 0 |
SubjectDistance | 1.5 m |
SubjectDistanceRange | Unknown |
Tint | 0 |
ToneCurve | 0, 1, 64, 55, 103, 121, 168, 192, 255, 255 |
ToneCurveName | Custom |
URL_List | |
Version | 6.6 |
VignetteAmount | 0 |
WhiteBalance (1) | Custom |
WhiteBalance | Auto |