Felt | Verdi |
AlreadyApplied | True |
Aperture | 2.8 |
ApertureValue | 2.8 |
ApproximateFocusDistance | 4294967295 |
BitsPerSample | 8 |
BlueHue | 0 |
BlueSaturation | 0 |
Brightness | +50 |
CameraProfile | Adobe Standard |
ChromaticAberrationB | 0 |
ChromaticAberrationR | 0 |
CircleOfConfusion | 0.019 mm |
Clarity | -3 |
ColorComponents | 3 |
ColorMode | RGB |
ColorNoiseReduction | 5 |
ColorNoiseReductionDetail | 3 |
ColorSpace | Uncalibrated |
ColorTemperature | 3800 |
Contrast | +25 |
ConvertToGrayscale | False |
CreateDate (1) | 2012:02:11 12:41:33.92 |
CreateDate | 2012:02:11 12:41:33 |
CropAngle | 0 |
CropBottom | 0.893567 |
CropConstrainToWarp | 1 |
CropHeight | 3 |
CropLeft | 0.05708 |
CropRight | 0.937467 |
CropTop | 0.01318 |
CropUnit | Unknown (3) |
CropWidth | 2 |
CustomRendered | Normal |
DateCreated (1) | 2012:02:11 |
DateCreated | 2012:02:11 12:41:33.092 |
DateTimeOriginal | 2012:02:11 12:41:33 |
Defringe | 0 |
DOF | inf (155.86 m - inf) |
ExifImageHeight | 761 |
ExifImageWidth | 1141 |
Exposure | +2.35 |
ExposureCompensation | 0 |
ExposureMode | Manual |
ExposureProgram | Manual |
ExposureTime | 1/100 |
FillLight | 19 |
Firmware | 1.0.3 |
Flash | Off, Did not fire |
FlashCompensation | 0 |
FNumber | 2.8 |
FocalLength | 90.0 mm |
FocalLength35efl | 90.0 mm (35 mm equivalent: 145.7 mm) |
Format | image/jpeg |
FOV | 14.1 deg |
GrainAmount | 0 |
GreenHue | 0 |
GreenSaturation | 0 |
HasCrop | True |
HasSettings | True |
HighlightRecovery | 0 |
HueAdjustmentAqua | 0 |
HueAdjustmentBlue | 0 |
HueAdjustmentGreen | 0 |
HueAdjustmentMagenta | 0 |
HueAdjustmentOrange | 0 |
HueAdjustmentPurple | 0 |
HueAdjustmentRed | 0 |
HueAdjustmentYellow | 0 |
HyperfocalDistance | 155.86 m |
ICCProfileName | Adobe RGB (1998) |
ImageHeight | 761 |
ImageNumber | 0 |
ImageSize | 1141x761 |
ImageWidth | 1141 |
ISO | 400 |
Lens | 90mm |
LensID (1) | 26 |
LensID | Tamron SP AF 90mm f/2.8 Di Macro |
LensInfo | 90mm f/? |
LensManualDistortionAmount | 0 |
LensModel | 90mm |
LensProfileEnable | 0 |
LensProfileSetup | LensDefaults |
LightValue | 7.6 |
LuminanceAdjustmentAqua | 0 |
LuminanceAdjustmentBlue | 0 |
LuminanceAdjustmentGreen | 0 |
LuminanceAdjustmentMagenta | 0 |
LuminanceAdjustmentOrange | 0 |
LuminanceAdjustmentPurple | 0 |
LuminanceAdjustmentRed | 0 |
LuminanceAdjustmentYellow | 0 |
LuminanceNoiseReductionContrast | 46 |
LuminanceNoiseReductionDetail | 23 |
LuminanceSmoothing | 71 |
Make | Canon |
MaxApertureValue | 2.8 |
Megapixels | 0.868 |
MeteringMode | Partial |
Model | Canon EOS 1000D |
ModifyDate (1) | 2012:02:11 20:38:29+01:00 |
ModifyDate | 2012:02:11 20:38:29 |
Orientation | Horizontal (normal) |
ParametricDarks | 0 |
ParametricHighlights | 0 |
ParametricHighlightSplit | 75 |
ParametricLights | 0 |
ParametricMidtoneSplit | 50 |
ParametricShadows | 0 |
ParametricShadowSplit | 25 |
PerspectiveHorizontal | 0 |
PerspectiveRotate | 0.0 |
PerspectiveScale | 100 |
PerspectiveVertical | 0 |
PostCropVignetteAmount | -30 |
PostCropVignetteFeather | 94 |
PostCropVignetteHighlightContrast | 0 |
PostCropVignetteMidpoint | 100 |
PostCropVignetteRoundness | +20 |
PostCropVignetteStyle | 1 |
ProcessVersion | 5.7 |
ProfileDescription | Adobe RGB (1998) |
Rating | 0 |
RawFileName | IMG_6678.CR2 |
RedHue | 0 |
RedSaturation | 0 |
Saturation | -30 |
SaturationAdjustmentAqua | 0 |
SaturationAdjustmentBlue | 0 |
SaturationAdjustmentGreen | 0 |
SaturationAdjustmentMagenta | 0 |
SaturationAdjustmentOrange | 0 |
SaturationAdjustmentPurple | 0 |
SaturationAdjustmentRed | 0 |
SaturationAdjustmentYellow | 0 |
ScaleFactor35efl | 1.6 |
SceneCaptureType | Standard |
SerialNumber | 630278646 |
Shadows | 17 |
ShadowTint | 0 |
SharpenDetail | 34 |
SharpenEdgeMasking | 0 |
SharpenRadius | +1.6 |
Sharpness | 75 |
ShutterSpeed | 1/100 |
ShutterSpeedValue | 1/100 |
Software | Adobe Photoshop CS5.1 Macintosh |
SplitToningBalance | 0 |
SplitToningHighlightHue | 0 |
SplitToningHighlightSaturation | 0 |
SplitToningShadowHue | 0 |
SplitToningShadowSaturation | 0 |
SubjectDistance | 4294967295 m |
Tint | +21 |
ToneCurve | 0, 0, 32, 22, 64, 56, 128, 128, 192, 196, 255, 255 |
ToneCurveName | Medium Contrast |
URL_List | |
Version | 6.5 |
Vibrance | +6 |
VignetteAmount | 0 |
WhiteBalance (1) | Fluorescent |
WhiteBalance | Auto |