Felt | Verdi |
AlreadyApplied | True |
Aperture | 6.3 |
ApertureValue | 6.3 |
ApproximateFocusDistance | 9.57 |
BitsPerSample | 8 |
BlueHue | 0 |
BlueSaturation | 0 |
Brightness | +50 |
CameraProfile | Matrix |
ChromaticAberrationB | 0 |
ChromaticAberrationR | 0 |
CircleOfConfusion | 0.019 mm |
Clarity | +60 |
ColorComponents | 3 |
ColorMode | RGB |
ColorNoiseReduction | 99 |
ColorNoiseReductionDetail | 1 |
ColorSpace | Uncalibrated |
ColorTemperature | 8100 |
Contrast | +25 |
ConvertToGrayscale | False |
CreateDate (1) | 2012:01:17 14:45:12.57 |
CreateDate | 2012:01:17 14:45:12 |
CustomRendered | Normal |
DateCreated (1) | 2012:01:17 |
DateCreated | 2012:01:17 14:45:12.057 |
DateTimeOriginal | 2012:01:17 14:45:12 |
Defringe | 0 |
DOF | 0.06 m (9.54 - 9.60 m) |
ExifImageHeight | 2370 |
ExifImageWidth | 4278 |
Exposure | +0.30 |
ExposureCompensation | -1/3 |
ExposureMode | Auto |
ExposureProgram | Aperture-priority AE |
ExposureTime | 1/200 |
FillLight | 0 |
Firmware | 1.0.6 |
Flash | Off, Did not fire |
FlashCompensation | 0 |
FNumber | 6.3 |
FocalLength | 600.0 mm |
FocalLength35efl | 600.0 mm (35 mm equivalent: 943.7 mm) |
Format | image/jpeg |
FOV | 2.2 deg |
GrainAmount | 0 |
GreenHue | 0 |
GreenSaturation | 0 |
HasCrop | False |
HasSettings | True |
HighlightRecovery | 100 |
HueAdjustmentAqua | 0 |
HueAdjustmentBlue | 0 |
HueAdjustmentGreen | 0 |
HueAdjustmentMagenta | 0 |
HueAdjustmentOrange | 0 |
HueAdjustmentPurple | 0 |
HueAdjustmentRed | 0 |
HueAdjustmentYellow | 0 |
HyperfocalDistance | 2991.11 m |
ICCProfileName | Adobe RGB (1998) |
ImageHeight | 2370 |
ImageNumber | 0 |
ImageSize | 4278x2370 |
ImageWidth | 4278 |
ISO | 800 |
Lens | EF300mm f/2.8L IS USM +2.0x |
LensID (1) | 142 |
LensID | Canon EF 300mm f/2.8L IS USM + 2x |
LensInfo | 600mm f/? |
LensManualDistortionAmount | 0 |
LensModel | EF300mm f/2.8L IS USM +2.0x |
LensProfileEnable | 0 |
LensProfileSetup | LensDefaults |
LightValue | 10.0 |
LuminanceAdjustmentAqua | 0 |
LuminanceAdjustmentBlue | 0 |
LuminanceAdjustmentGreen | 0 |
LuminanceAdjustmentMagenta | 0 |
LuminanceAdjustmentOrange | 0 |
LuminanceAdjustmentPurple | 0 |
LuminanceAdjustmentRed | 0 |
LuminanceAdjustmentYellow | 0 |
LuminanceNoiseReductionContrast | 0 |
LuminanceNoiseReductionDetail | 100 |
LuminanceSmoothing | 50 |
Make | Canon |
MaxApertureValue | 5.7 |
Megapixels | 10.1 |
MeteringMode | Multi-segment |
Model | Canon EOS 550D |
ModifyDate (1) | 2012:01:25 11:18:49+01:00 |
ModifyDate | 2012:01:25 11:18:49 |
Orientation | Horizontal (normal) |
ParametricDarks | 0 |
ParametricHighlights | 0 |
ParametricHighlightSplit | 75 |
ParametricLights | 0 |
ParametricMidtoneSplit | 50 |
ParametricShadows | 0 |
ParametricShadowSplit | 25 |
PerspectiveHorizontal | 0 |
PerspectiveRotate | 0.0 |
PerspectiveScale | 100 |
PerspectiveVertical | 0 |
PostCropVignetteAmount | 0 |
ProcessVersion | 5.7 |
ProfileDescription | Adobe RGB (1998) |
Rating | 0 |
RawFileName | IMG_8775.CR2 |
RedHue | 0 |
RedSaturation | 0 |
Saturation | +20 |
SaturationAdjustmentAqua | 0 |
SaturationAdjustmentBlue | 0 |
SaturationAdjustmentGreen | 0 |
SaturationAdjustmentMagenta | 0 |
SaturationAdjustmentOrange | 0 |
SaturationAdjustmentPurple | 0 |
SaturationAdjustmentRed | 0 |
SaturationAdjustmentYellow | 0 |
ScaleFactor35efl | 1.6 |
SceneCaptureType | Standard |
SerialNumber | 231102514 |
Shadows | 5 |
ShadowTint | 0 |
SharpenDetail | 25 |
SharpenEdgeMasking | 0 |
SharpenRadius | +1.0 |
Sharpness | 25 |
ShutterSpeed | 1/200 |
ShutterSpeedValue | 1/200 |
Software | Adobe Photoshop CS5.1 Windows |
SplitToningBalance | 0 |
SplitToningHighlightHue | 0 |
SplitToningHighlightSaturation | 0 |
SplitToningShadowHue | 0 |
SplitToningShadowSaturation | 0 |
SubjectDistance | 9.57 m |
Tint | -1 |
ToneCurve | 0, 0, 32, 22, 64, 56, 128, 128, 192, 196, 255, 255 |
ToneCurveName | Medium Contrast |
URL_List | |
Version | 6.6 |
Vibrance | 0 |
VignetteAmount | 0 |
WhiteBalance (1) | Custom |
WhiteBalance | Auto |