Felt | Verdi |
AlreadyApplied | True |
Aperture | 8.0 |
ApertureValue | 8.0 |
ApproximateFocusDistance | 1.25 |
Artist | Jan Sæbø |
AuthorsPosition | Senior Engineer |
BitsPerSample | 8 |
BlueHue | +11 |
BlueSaturation | -70 |
Brightness | +55 |
By-line | Jan Sæbø |
By-lineTitle | Senior Engineer |
CameraProfile | Adobe Standard |
ChromaticAberrationB | 0 |
ChromaticAberrationR | 0 |
CircleOfConfusion | 0.019 mm |
Clarity | +50 |
ColorComponents | 3 |
ColorNoiseReduction | 25 |
ColorNoiseReductionDetail | 50 |
Contrast | +25 |
ConvertToGrayscale | False |
Copyright | Copyright @ 2011 Jan Sæbø |
CopyrightFlag | True |
CopyrightNotice | Copyright @ 2011 Jan Sæbø |
CreateDate | 2011:03:03 21:16:02 |
Creator | Jan Sæbø |
CreatorAddress | Roald Amundsens Vei 95 |
CreatorCity | Bergen |
CreatorCountry | Norway |
CreatorPostalCode | 5067 |
CreatorTool | Adobe Photoshop Lightroom 3.6 (Windows) |
CreatorWorkEmail | jansabo@gmail.com |
CreatorWorkTelephone | +47 977 65 709 |
CreatorWorkURL | jansabo.foto.no |
CropAngle | 0 |
CropBottom | 1 |
CropConstrainToWarp | 0 |
CropHeight | 2372 |
CropLeft | 0.12945 |
CropRight | 0.864078 |
CropTop | 0.308458 |
CropUnit | pixels |
CropWidth | 1936 |
CustomRendered | Normal |
DateCreated (1) | 2011:03:03 |
DateCreated | 2011:03:03 21:16:02 |
DateTimeOriginal | 2011:03:03 21:16:02 |
Defringe | 0 |
DerivedFrom | |
DOF | 0.06 m (1.22 - 1.28 m) |
Exposure | +0.25 |
ExposureCompensation | 0 |
ExposureMode | Manual |
ExposureTime | 1/100 |
FillLight | 0 |
Firmware | 1.0.9 |
Flash | Off, Did not fire |
FlashCompensation | 0 |
FNumber | 8.0 |
FocalLength | 85.0 mm |
FocalLength35efl | 85.0 mm (35 mm equivalent: 133.7 mm) |
Format | image/jpeg |
FOV | 15.3 deg |
GrainAmount | 0 |
GreenHue | +11 |
GreenSaturation | +25 |
HasCrop | True |
HasSettings | True |
HighlightRecovery | 0 |
HueAdjustmentAqua | 0 |
HueAdjustmentBlue | 0 |
HueAdjustmentGreen | 0 |
HueAdjustmentMagenta | 0 |
HueAdjustmentOrange | 0 |
HueAdjustmentPurple | 0 |
HueAdjustmentRed | 0 |
HueAdjustmentYellow | 0 |
HyperfocalDistance | 47.27 m |
ImageHeight | 2372 |
ImageNumber | 0 |
ImageSize | 1936x2372 |
ImageWidth | 1936 |
IncrementalTemperature | 0 |
IncrementalTint | 0 |
ISO | 200 |
Lens | EF85mm f/1.8 USM |
LensInfo | 85mm f/? |
LensManualDistortionAmount | 0 |
LensModel | EF85mm f/1.8 USM |
LensProfileEnable | 0 |
LensProfileSetup | LensDefaults |
LightValue | 11.6 |
LuminanceAdjustmentAqua | 0 |
LuminanceAdjustmentBlue | 0 |
LuminanceAdjustmentGreen | 0 |
LuminanceAdjustmentMagenta | 0 |
LuminanceAdjustmentOrange | 0 |
LuminanceAdjustmentPurple | 0 |
LuminanceAdjustmentRed | 0 |
LuminanceAdjustmentYellow | 0 |
LuminanceNoiseReductionContrast | 0 |
LuminanceNoiseReductionDetail | 86 |
LuminanceSmoothing | 53 |
Make | Canon |
Marked | True |
MaxApertureValue | 1.8 |
Megapixels | 4.6 |
Model | Canon EOS 550D |
ModifyDate (1) | 2011:12:29 22:29:07+01:00 |
ModifyDate | 2011:12:29 22:29:07 |
ParametricDarks | -50 |
ParametricHighlights | +32 |
ParametricHighlightSplit | 75 |
ParametricLights | +9 |
ParametricMidtoneSplit | 50 |
ParametricShadows | -39 |
ParametricShadowSplit | 25 |
PerspectiveHorizontal | 0 |
PerspectiveRotate | 0.0 |
PerspectiveScale | 100 |
PerspectiveVertical | 0 |
PostCropVignetteAmount | -15 |
PostCropVignetteFeather | 50 |
PostCropVignetteHighlightContrast | 0 |
PostCropVignetteMidpoint | 50 |
PostCropVignetteRoundness | 0 |
PostCropVignetteStyle | 1 |
ProcessVersion | 5.7 |
ProfileDescription | sRGB IEC61966-2.1 |
RedHue | +96 |
RedSaturation | +3 |
Rights | Copyright @ 2011 Jan Sæbø |
Saturation | +20 |
SaturationAdjustmentAqua | 0 |
SaturationAdjustmentBlue | 0 |
SaturationAdjustmentGreen | 0 |
SaturationAdjustmentMagenta | 0 |
SaturationAdjustmentOrange | 0 |
SaturationAdjustmentPurple | 0 |
SaturationAdjustmentRed | 0 |
SaturationAdjustmentYellow | 0 |
ScaleFactor35efl | 1.6 |
SceneCaptureType | Standard |
SerialNumber | 732381084 |
Shadows | 0 |
ShadowTint | +8 |
SharpenDetail | 25 |
SharpenEdgeMasking | 0 |
SharpenRadius | +1.0 |
Sharpness | 0 |
ShutterSpeed | 1/100 |
ShutterSpeedValue | 1/100 |
Software | Adobe Photoshop Lightroom 3.6 (Windows) |
SplitToningBalance | 0 |
SplitToningHighlightHue | 40 |
SplitToningHighlightSaturation | 68 |
SplitToningShadowHue | 109 |
SplitToningShadowSaturation | 60 |
SubjectDistance | 1.25 m |
ToneCurve | 0, 0, 255, 255 |
ToneCurveName | Linear |
UsageTerms | No reproduction of any kind without prior written |
Version | 6.6 |
Vibrance | +25 |
VignetteAmount | 0 |
WhiteBalance (1) | As Shot |
WhiteBalance | Auto |