Felt | Verdi |
AlreadyApplied | True |
Aperture | 9.0 |
ApertureValue | 9.0 |
ApproximateFocusDistance | 1.23 |
Artist | Morten obbink |
BitsPerSample | 8 |
BlueHue | 0 |
BlueSaturation | 0 |
Brightness | +50 |
By-line | Morten obbink |
CameraProfile | Adobe Standard |
ChromaticAberrationB | 0 |
ChromaticAberrationR | 0 |
CircleOfConfusion | 0.019 mm |
Clarity | +20 |
ColorComponents | 3 |
ColorNoiseReduction | 25 |
ColorNoiseReductionDetail | 50 |
ColorTemperature | 6061 |
Contrast | +25 |
ConvertToGrayscale | False |
Copyright | © Morten Obbink All Rights Reserved |
CopyrightFlag | True |
CopyrightNotice | © Morten Obbink All Rights Reserved |
CreateDate (1) | 2011:12:23 15:46:25.00 |
CreateDate | 2011:12:23 15:46:25 |
Creator | Morten obbink |
CreatorAddress | Traraveien 14 |
CreatorCity | Fredrikstad |
CreatorCountry | Norway |
CreatorPostalCode | 1605 |
CreatorRegion | Østfold |
CreatorTool | Adobe Photoshop Lightroom 3.6 (Macintosh) |
CreatorWorkEmail | morten.o@me.com |
CreatorWorkTelephone | 9061 49 61 |
CreatorWorkURL | www.fredrikstadfoto.net |
Credit | Morten Obbink |
CropAngle | 0 |
CropBottom | 0.829042 |
CropConstrainToWarp | 0 |
CropHeight | 467 |
CropLeft | 0.100935 |
CropRight | 0.726428 |
CropTop | 0.258058 |
CropUnit | pixels |
CropWidth | 768 |
CustomRendered | Normal |
DateCreated (1) | 2011:12:23 |
DateCreated | 2011:12:23 15:46:25.00 |
DateTimeOriginal | 2011:12:23 15:46:25 |
Defringe | 0 |
DOF | 0.70 m (0.97 - 1.67 m) |
Exposure | 0.00 |
ExposureCompensation | 0 |
ExposureMode | Manual |
ExposureProgram | Manual |
ExposureTime | 1/80 |
FillLight | 4 |
Firmware | 1.2.5 |
Flash | Off, Did not fire |
FlashCompensation | 0 |
FNumber | 9.0 |
FocalLength | 28.0 mm |
FocalLength35efl | 28.0 mm (35 mm equivalent: 44.0 mm) |
Format | image/jpeg |
FOV | 44.5 deg |
GrainAmount | 0 |
GreenHue | 0 |
GreenSaturation | 0 |
HasCrop | True |
HasSettings | True |
HighlightRecovery | 0 |
HueAdjustmentAqua | 0 |
HueAdjustmentBlue | 0 |
HueAdjustmentGreen | 0 |
HueAdjustmentMagenta | 0 |
HueAdjustmentOrange | 0 |
HueAdjustmentPurple | 0 |
HueAdjustmentRed | 0 |
HueAdjustmentYellow | 0 |
HyperfocalDistance | 4.55 m |
ImageHeight | 768 |
ImageNumber | 0 |
ImageSize | 467x768 |
ImageWidth | 467 |
ISO | 100 |
Lens | EF24-105mm f/4L IS USM |
LensID (1) | 237 |
LensID | Canon EF 24-105mm f/4L IS USM |
LensInfo | 24-105mm f/? |
LensManualDistortionAmount | 0 |
LensModel | EF24-105mm f/4L IS USM |
LensProfileEnable | 0 |
LensProfileSetup | LensDefaults |
LightValue | 12.7 |
LuminanceAdjustmentAqua | 0 |
LuminanceAdjustmentBlue | 0 |
LuminanceAdjustmentGreen | 0 |
LuminanceAdjustmentMagenta | 0 |
LuminanceAdjustmentOrange | 0 |
LuminanceAdjustmentPurple | 0 |
LuminanceAdjustmentRed | 0 |
LuminanceAdjustmentYellow | 0 |
LuminanceNoiseReductionContrast | 0 |
LuminanceNoiseReductionDetail | 50 |
LuminanceSmoothing | 8 |
Make | Canon |
Marked | True |
MaxApertureValue | 4.0 |
Megapixels | 0.359 |
MeteringMode | Center-weighted average |
Model | Canon EOS 7D |
ModifyDate (1) | 2011:12:23 16:24:48+01:00 |
ModifyDate | 2011:12:23 16:24:48 |
PaintCorrectionActive | true |
PaintCorrectionAmount | 1.000000 |
PaintCorrectionBrightness | 0.000000 |
PaintCorrectionClarity (1) | 0.000000 |
PaintCorrectionClarity | 0.655172 |
PaintCorrectionContrast | 0.000000 |
PaintCorrectionExposure (1) | -0.801121 |
PaintCorrectionExposure | 0.172414 |
PaintCorrectionHue (1) | 5.000000 |
PaintCorrectionHue | 240.000000 |
PaintCorrectionMaskCenterWeight (12) | 0.000000 |
PaintCorrectionMaskCenterWeight | 0.001355 |
PaintCorrectionMaskFlow (8) | 1.000000 |
PaintCorrectionMaskFlow | 0.957872 |
PaintCorrectionMaskRadius (10) | 0.007614 |
PaintCorrectionMaskRadius (12) | 0.147124 |
PaintCorrectionMaskRadius (15) | 0.087949 |
PaintCorrectionMaskRadius (4) | 0.063370 |
PaintCorrectionMaskRadius (5) | 0.181784 |
PaintCorrectionMaskRadius (6) | 0.015738 |
PaintCorrectionMaskRadius | 0.005128 |
PaintCorrectionMaskValue (7) | 0.000000 |
PaintCorrectionMaskValue | 1.000000 |
PaintCorrectionMaskWhat | Mask/Paint |
PaintCorrectionSaturation (3) | 0.701149 |
PaintCorrectionSaturation | 0.000000 |
PaintCorrectionSharpness | 0.000000 |
PaintCorrectionWhat | Correction |
ParametricDarks | 0 |
ParametricHighlights | +29 |
ParametricHighlightSplit | 75 |
ParametricLights | +12 |
ParametricMidtoneSplit | 50 |
ParametricShadows | 0 |
ParametricShadowSplit | 25 |
PerspectiveHorizontal | 0 |
PerspectiveRotate | 0.0 |
PerspectiveScale | 100 |
PerspectiveVertical | 0 |
PLUSVersion | 1.2.0 |
PostCropVignetteAmount | 0 |
ProcessVersion | 5.7 |
ProfileDescription | ProPhoto RGB |
Rating | 4 |
RedHue | 0 |
RedSaturation | 0 |
Rights | © Morten Obbink All Rights Reserved |
Saturation | 0 |
SaturationAdjustmentAqua | 0 |
SaturationAdjustmentBlue | 0 |
SaturationAdjustmentGreen | 0 |
SaturationAdjustmentMagenta | 0 |
SaturationAdjustmentOrange | 0 |
SaturationAdjustmentPurple | 0 |
SaturationAdjustmentRed | 0 |
SaturationAdjustmentYellow | 0 |
ScaleFactor35efl | 1.6 |
SceneCaptureType | Standard |
SerialNumber | 1981002605 |
Shadows | 5 |
ShadowTint | 0 |
SharpenDetail | 10 |
SharpenEdgeMasking | 0 |
SharpenRadius | +0.6 |
Sharpness | 92 |
ShutterSpeed | 1/80 |
ShutterSpeedValue | 1/80 |
Software | Adobe Photoshop Lightroom 3.6 (Macintosh) |
SplitToningBalance | 0 |
SplitToningHighlightHue | 0 |
SplitToningHighlightSaturation | 0 |
SplitToningShadowHue | 0 |
SplitToningShadowSaturation | 0 |
SubjectDistance | 1.23 m |
Tint | -2 |
ToneCurve | 0, 0, 32, 22, 64, 56, 128, 128, 192, 196, 255, 255 |
ToneCurveName | Medium Contrast |
UsageTerms | All Rights Reserved to Morten Obbink |
Version | 6.6 |
Vibrance | 0 |
VignetteAmount | 0 |
WhiteBalance (1) | Custom |
WhiteBalance | Auto |