Felt | Verdi |
AlreadyApplied | True |
Aperture | 10.0 |
ApertureValue | 10.0 |
BitsPerSample | 8 |
BlueHue | 0 |
BlueSaturation | 0 |
Brightness | 0 |
BrightnessValue | 8.37 |
CameraProfile | Adobe Standard |
ChromaticAberrationB | 0 |
ChromaticAberrationR | 0 |
CircleOfConfusion | 0.020 mm |
Clarity | -100 |
ColorComponents | 3 |
ColorNoiseReduction | 25 |
ColorTemperature | 5750 |
Contrast (2) | +52 |
Contrast | Normal |
ConvertToGrayscale | False |
Copyright | Espen Paulsen |
CopyrightFlag | True |
CopyrightNotice | Espen Paulsen |
CreateDate (1) | 2010:02:24 14:38:13+01:00 |
CreateDate | 2010:02:24 14:38:13 |
CreatorTool | Adobe Photoshop Lightroom |
CropAngle | -0.837715 |
CropBottom | 0.97824 |
CropHeight | 697 |
CropLeft | 0 |
CropRight | 1 |
CropTop | 0.189974 |
CropUnit | pixels |
CropWidth | 1280 |
CustomRendered | Normal |
DateTimeDigitized | 2010:02:24 14:38:13+01:00 |
DateTimeOriginal (1) | 2010:02:24 14:38:13+01:00 |
DateTimeOriginal | 2010:02:24 14:38:13 |
Defringe | 0 |
Description | |
DigitalZoomRatio | 0 |
ExifImageHeight | 697 |
ExifImageWidth | 1280 |
Exposure | +1.58 |
ExposureCompensation | 0 |
ExposureMode | Auto |
ExposureProgram | Aperture-priority AE |
ExposureTime | 1/100 |
FillLight | 0 |
Flash | Off, Did not fire |
FlashFired | False |
FlashFunction | False |
FlashMode | Off |
FlashRedEyeMode | False |
FlashReturn | No return detection |
FNumber | 10.0 |
FocalLength | 28.0 mm |
FocalLength35efl | 28.0 mm (35 mm equivalent: 42.0 mm) |
FocalLengthIn35mmFormat | 42 mm |
FOV | 46.4 deg |
GreenHue | 0 |
GreenSaturation | 0 |
HasCrop | True |
HasSettings | True |
HighlightRecovery | 6 |
HueAdjustmentAqua | 0 |
HueAdjustmentBlue | 0 |
HueAdjustmentGreen | 0 |
HueAdjustmentMagenta | 0 |
HueAdjustmentOrange | 0 |
HueAdjustmentPurple | 0 |
HueAdjustmentRed | 0 |
HueAdjustmentYellow | 0 |
HyperfocalDistance | 3.91 m |
ImageHeight | 697 |
ImageSize | 1280x697 |
ImageWidth | 1280 |
ISO | 100 |
Keywords | 2010, Land, Landskap, Natur, Vann, lofoten |
Lens | 100-300mm F4.5-5.6 |
LensID (1) | 25 |
LensID | Minolta AF 100-300mm F4.5-5.6 APO (D) or Sigma Lens |
LensInfo | 100-300mm f/4.5-5.6 |
LightSource | Unknown |
LightValue | 13.3 |
LuminanceAdjustmentAqua | 0 |
LuminanceAdjustmentBlue | 0 |
LuminanceAdjustmentGreen | 0 |
LuminanceAdjustmentMagenta | 0 |
LuminanceAdjustmentOrange | 0 |
LuminanceAdjustmentPurple | 0 |
LuminanceAdjustmentRed | 0 |
LuminanceAdjustmentYellow | 0 |
LuminanceSmoothing | 0 |
Make | SONY |
Marked | True |
MaxApertureValue | 1.8 |
Megapixels | 0.892 |
MeteringMode | Multi-segment |
Model | DSLR-A700 |
ModifyDate (1) | 2011:02:24 19:32:24+01:00 |
ModifyDate | 2011:02:24 19:32:24 |
ObjectName | Vinter Beach |
ParametricDarks | 0 |
ParametricHighlights | 0 |
ParametricHighlightSplit | 75 |
ParametricLights | 0 |
ParametricMidtoneSplit | 50 |
ParametricShadows | 0 |
ParametricShadowSplit | 25 |
PostCropVignetteAmount | 0 |
ProfileDescription | sRGB IEC61966-2.1 |
RedHue | 0 |
RedSaturation | 0 |
Rights | Espen Paulsen |
Saturation (2) | 0 |
Saturation | Normal |
SaturationAdjustmentAqua | 0 |
SaturationAdjustmentBlue | 0 |
SaturationAdjustmentGreen | 0 |
SaturationAdjustmentMagenta | 0 |
SaturationAdjustmentOrange | 0 |
SaturationAdjustmentPurple | 0 |
SaturationAdjustmentRed | 0 |
SaturationAdjustmentYellow | 0 |
ScaleFactor35efl | 1.5 |
SceneCaptureType | Standard |
SceneType | Directly photographed |
Shadows | 30 |
ShadowTint | 0 |
SharpenDetail | 25 |
SharpenEdgeMasking | 0 |
SharpenRadius | +1.0 |
Sharpness (2) | 80 |
Sharpness | Normal |
ShutterSpeed | 1/100 |
ShutterSpeedValue | 1/100 |
Software | DSLR-A700 v04 |
SplitToningBalance | 0 |
SplitToningHighlightHue | 0 |
SplitToningHighlightSaturation | 0 |
SplitToningShadowHue | 0 |
SplitToningShadowSaturation | 0 |
Subject | 2010, Land, Landskap, Natur, Vann, lofoten |
Tint | +3 |
Title | Vinter Beach |
ToneCurve | 0, 0, 32, 22, 64, 56, 128, 128, 192, 196, 255, 255 |
ToneCurveName | Medium Contrast |
UsageTerms | Kan bare brukes etter samtykke i fra rettighetshaveren |
Version | 5.7 |
Vibrance | 0 |
VignetteAmount | 0 |
WhiteBalance (2) | As Shot |
WhiteBalance | Auto |