Felt | Verdi |
AlreadyApplied | True |
Aperture | 11.0 |
ApertureValue | 11.0 |
Artist | Charles Lloyd-Williams |
AuthorsPosition | Fotograf/Photographer |
BitsPerSample | 8 |
BlueHue | 0 |
BlueSaturation | 0 |
Brightness | 0 |
By-line | Charles Lloyd-Williams |
By-lineTitle | Fotograf/Photographer |
CameraProfile | Embedded |
Caption-Abstract | rets Frisšr |
Category (1) | Fas |
Category | Fashion |
ChromaticAberrationB | 0 |
ChromaticAberrationR | 0 |
City | Oslo |
Clarity | 0 |
ColorComponents | 3 |
ColorNoiseReduction | 0 |
ColorSpace | Unknown (-1) |
Contrast | 0 |
ConvertToGrayscale | False |
Copyright | www.acestudio.no |
CopyrightFlag | True |
CopyrightNotice | www.acestudio.no |
Country | Norge/Norway |
Country-PrimaryLocationName | Norge/Norway |
CountryCode | NO |
CreateDate (1) | 2009:10:17 14:31:54+02:00 |
CreateDate | 2009:10:17 14:31:54 |
Creator | Charles Lloyd-Williams |
CreatorAddress | Dronningensgate 10-14 |
CreatorCity | Oslo |
CreatorCountry | Norge/Norway |
CreatorPostalCode | 0152 |
CreatorTool | Adobe Photoshop Lightroom |
CreatorWorkEmail | charleslloydwilliams@mac.com |
CreatorWorkTelephone | mobil +47 473 908 90 |
CreatorWorkURL | http://www.acestudio.no |
CropAngle | -2.23921 |
CropBottom | 0.911331 |
CropHeight | 900 |
CropLeft | 0.168914 |
CropRight | 0.938456 |
CropTop | 0.022171 |
CropUnit | pixels |
CropWidth | 532 |
DateCreated | 2009:10:17 |
DateTimeDigitized | 2009:10:17 14:31:54+02:00 |
DateTimeOriginal (1) | 2009:10:17 14:31:54+02:00 |
DateTimeOriginal | 2009:10:17 14:31:54 |
Defringe | 0 |
Description | Årets Frisör |
ExifImageHeight | 900 |
ExifImageWidth | 532 |
Exposure | 0.00 |
ExposureCompensation | 0 |
ExposureProgram | Not Defined |
ExposureTime | 1/125 |
FillLight | 0 |
FNumber | 11.0 |
FocalLength | 80.0 mm |
FocalLength35efl | 80.0 mm |
Format | application/vnd.adobe.photoshop |
GreenHue | 0 |
GreenSaturation | 0 |
HasCrop | True |
HasSettings | True |
Headline (1) | rets frisšr |
Headline | Årets frisör |
HighlightRecovery | 0 |
HueAdjustmentAqua | 0 |
HueAdjustmentBlue | 0 |
HueAdjustmentGreen | 0 |
HueAdjustmentMagenta | 0 |
HueAdjustmentOrange | 0 |
HueAdjustmentPurple | 0 |
HueAdjustmentRed | 0 |
HueAdjustmentYellow | 0 |
ImageDescription | Arets Frisor |
ImageHeight | 900 |
ImageSize | 532x900 |
ImageWidth | 532 |
IncrementalTemperature | -6 |
IncrementalTint | -8 |
ISO | 100 |
Keywords | hair |
Label | Blue |
LightSource | Unknown |
LightValue | 13.9 |
Location | Hausman studio |
LuminanceAdjustmentAqua | 0 |
LuminanceAdjustmentBlue | 0 |
LuminanceAdjustmentGreen | 0 |
LuminanceAdjustmentMagenta | 0 |
LuminanceAdjustmentOrange | 0 |
LuminanceAdjustmentPurple | 0 |
LuminanceAdjustmentRed | 0 |
LuminanceAdjustmentYellow | 0 |
LuminanceSmoothing | 0 |
Make | Phase One A/S |
Marked | True |
Megapixels | 0.479 |
Model | P30 |
ModifyDate (1) | 2010:02:26 23:57:03+01:00 |
ModifyDate | 2010:02:26 23:57:03 |
ObjectName | photographer |
ParametricDarks | 0 |
ParametricHighlights | 0 |
ParametricHighlightSplit | 75 |
ParametricLights | 0 |
ParametricMidtoneSplit | 50 |
ParametricShadows | 0 |
ParametricShadowSplit | 25 |
PostCropVignetteAmount | 0 |
ProfileDescription | sRGB IEC61966-2.1 |
RedHue | 0 |
RedSaturation | 0 |
Rights | www.acestudio.no |
Saturation | 0 |
SaturationAdjustmentAqua | -100 |
SaturationAdjustmentBlue | -100 |
SaturationAdjustmentGreen | 0 |
SaturationAdjustmentMagenta | -100 |
SaturationAdjustmentOrange | -100 |
SaturationAdjustmentPurple | -100 |
SaturationAdjustmentRed | -100 |
SaturationAdjustmentYellow | 0 |
SerialNumber | CN010332 |
Shadows | 7 |
ShadowTint | 0 |
SharpenDetail | 25 |
SharpenEdgeMasking | 0 |
SharpenRadius | +1.0 |
Sharpness | 0 |
ShutterSpeed | 1/125 |
ShutterSpeedValue | 1/125 |
Software | Adobe Photoshop CS3 Macintosh |
Source | Charles Lloyd-Williams |
SplitToningBalance | 0 |
SplitToningHighlightHue | 0 |
SplitToningHighlightSaturation | 0 |
SplitToningShadowHue | 0 |
SplitToningShadowSaturation | 0 |
Sub-location | Hausman studio |
Subject | hair |
Title | photographer |
ToneCurve | 0, 0, 255, 255 |
ToneCurveName | Linear |
URL | http://www.acestudio.no |
UsageTerms | ©all rights reserved 2007 |
Version | 5.6 |
Vibrance | 0 |
VignetteAmount | 0 |
WebStatement | http://www.acestudio.no |
WhiteBalance (2) | Custom |
WhiteBalance | Auto |