Felt | Verdi |
AlreadyApplied | True |
Aperture | 13.0 |
ApertureValue | 13.0 |
Artist | Charles Lloyd-Williams |
AuthorsPosition | Fotograf/Photographer |
BitsPerSample | 8 |
BlueHue | 0 |
BlueSaturation | 0 |
Brightness | 0 |
By-line | Charles Lloyd-Williams |
By-lineTitle | Fotograf/Photographer |
CameraProfile | Embedded |
Caption-Abstract | rets Frisšr |
Category (1) | Fas |
Category | Fashion |
ChromaticAberrationB | 0 |
ChromaticAberrationR | 0 |
CircleOfConfusion | 0.030 mm |
City | Oslo |
Clarity | 0 |
ColorComponents | 3 |
ColorNoiseReduction | 0 |
Contrast | 0 |
ConvertToGrayscale | False |
Copyright | www.acestudio.no |
CopyrightFlag | True |
CopyrightNotice | www.acestudio.no |
Country | Norge/Norway |
Country-PrimaryLocationName | Norge/Norway |
CountryCode | NO |
CreateDate (1) | 2009:10:17 15:28:12+02:00 |
CreateDate | 2009:10:17 15:28:12 |
Creator | Charles Lloyd-Williams |
CreatorAddress | Dronningensgate 10-14 |
CreatorCity | Oslo |
CreatorCountry | Norge/Norway |
CreatorPostalCode | 0152 |
CreatorTool | Adobe Photoshop Lightroom |
CreatorWorkEmail | charleslloydwilliams@mac.com |
CreatorWorkTelephone | mobil +47 473 908 90 |
CreatorWorkURL | http://www.acestudio.no |
CropAngle | -0.137999 |
CropBottom | 0.605554 |
CropHeight | 900 |
CropLeft | 0.18025 |
CropRight | 0.762347 |
CropTop | 0.026491 |
CropUnit | pixels |
CropWidth | 600 |
CustomRendered | Normal |
DateCreated | 2009:10:17 |
DateTimeDigitized | 2009:10:17 15:28:12+02:00 |
DateTimeOriginal (1) | 2009:10:17 15:28:12+02:00 |
DateTimeOriginal | 2009:10:17 15:28:12 |
Defringe | 0 |
Description | Årets Frisör |
ExifImageHeight | 900 |
ExifImageWidth | 600 |
Exposure | -0.45 |
ExposureCompensation | 0 |
ExposureMode | Manual |
ExposureProgram | Manual |
ExposureTime | 1/160 |
FillLight | 0 |
Firmware | 1.1.6 |
Flash | Off, Did not fire |
FlashCompensation | 0 |
FlashFired | False |
FlashFunction | False |
FlashMode | Off |
FlashRedEyeMode | False |
FlashReturn | No return detection |
FNumber | 13.0 |
FocalLength | 85.0 mm |
FocalLength35efl | 85.0 mm (35 mm equivalent: 84.9 mm) |
FOV | 23.9 deg |
GreenHue | 0 |
GreenSaturation | 0 |
HasCrop | True |
HasSettings | True |
Headline (1) | rets frisšr |
Headline | Årets frisör |
HighlightRecovery | 0 |
HueAdjustmentAqua | 0 |
HueAdjustmentBlue | 0 |
HueAdjustmentGreen | 0 |
HueAdjustmentMagenta | 0 |
HueAdjustmentOrange | 0 |
HueAdjustmentPurple | 0 |
HueAdjustmentRed | 0 |
HueAdjustmentYellow | 0 |
HyperfocalDistance | 18.47 m |
ImageDescription | Arets Frisor |
ImageHeight | 900 |
ImageNumber | 27704 |
ImageSize | 600x900 |
ImageWidth | 600 |
IncrementalTemperature | -3 |
IncrementalTint | -10 |
ISO | 100 |
Keywords | hair |
Label | Blue |
Lens | 85.0 mm |
LensInfo | 85mm f/? |
LightValue | 14.7 |
Location | Hausman studio |
LuminanceAdjustmentAqua | 0 |
LuminanceAdjustmentBlue | 0 |
LuminanceAdjustmentGreen | 0 |
LuminanceAdjustmentMagenta | 0 |
LuminanceAdjustmentOrange | 0 |
LuminanceAdjustmentPurple | 0 |
LuminanceAdjustmentRed | 0 |
LuminanceAdjustmentYellow | 0 |
LuminanceSmoothing | 0 |
Make | Canon |
Marked | True |
MaxApertureValue | 1.2 |
Megapixels | 0.540 |
MeteringMode | Multi-segment |
Model | Canon EOS-1Ds Mark II |
ModifyDate (1) | 2010:02:26 23:57:07+01:00 |
ModifyDate | 2010:02:26 23:57:07 |
ObjectName | photographer |
OwnerName | Charles lloyd-Williams |
ParametricDarks | 0 |
ParametricHighlights | 0 |
ParametricHighlightSplit | 75 |
ParametricLights | 0 |
ParametricMidtoneSplit | 50 |
ParametricShadows | 0 |
ParametricShadowSplit | 25 |
PostCropVignetteAmount | 0 |
ProfileDescription | sRGB IEC61966-2.1 |
RedHue | 0 |
RedSaturation | 0 |
Rights | www.acestudio.no |
Saturation | +19 |
SaturationAdjustmentAqua | -100 |
SaturationAdjustmentBlue | -100 |
SaturationAdjustmentGreen | -100 |
SaturationAdjustmentMagenta | 0 |
SaturationAdjustmentOrange | -100 |
SaturationAdjustmentPurple | 0 |
SaturationAdjustmentRed | -51 |
SaturationAdjustmentYellow | -100 |
ScaleFactor35efl | 1.0 |
SceneCaptureType | Standard |
SerialNumber | 339502 |
Shadows | 2 |
ShadowTint | 0 |
SharpenDetail | 20 |
SharpenEdgeMasking | 70 |
SharpenRadius | +1.2 |
Sharpness | 35 |
ShutterSpeed | 1/160 |
ShutterSpeedValue | 1/160 |
Software | Adobe Photoshop CS3 Macintosh |
Source | Charles Lloyd-Williams |
SplitToningBalance | 0 |
SplitToningHighlightHue | 0 |
SplitToningHighlightSaturation | 0 |
SplitToningShadowHue | 0 |
SplitToningShadowSaturation | 0 |
Sub-location | Hausman studio |
Subject | hair |
Title | photographer |
ToneCurve | 0, 0, 255, 255 |
ToneCurveName | Linear |
URL | http://www.acestudio.no |
UsageTerms | ©all rights reserved 2007 |
Version | 5.6 |
Vibrance | -13 |
VignetteAmount | 0 |
WebStatement | http://www.acestudio.no |
WhiteBalance (2) | Custom |
WhiteBalance | Manual |