Felt | Verdi |
AlreadyApplied | True |
Aperture | 4.0 |
ApertureValue | 4.0 |
BitsPerSample | 8 |
BlueHue | 0 |
BlueSaturation | 0 |
Brightness | +50 |
CameraProfile | Adobe Standard |
ChromaticAberrationB | 0 |
ChromaticAberrationR | 0 |
CircleOfConfusion | 0.024 mm |
Clarity | -25 |
ColorComponents | 3 |
ColorNoiseReduction | 25 |
ColorTemperature | 8392 |
Contrast | +22 |
ConvertToGrayscale | False |
CreateDate (1) | 2009:02:01 15:26:30+01:00 |
CreateDate | 2009:02:01 15:26:30 |
CreatorTool | Adobe Photoshop Lightroom |
CropAngle | 0.544935 |
CropBottom | 0.509214 |
CropHeight | 237 |
CropLeft | 0.003142 |
CropRight | 0.997753 |
CropTop | 0.140628 |
CropUnit | pixels |
CropWidth | 1000 |
CustomRendered | Normal |
DateTimeDigitized | 2009:02:01 15:26:30+01:00 |
DateTimeOriginal (1) | 2009:02:01 15:26:30+01:00 |
DateTimeOriginal | 2009:02:01 15:26:30 |
Defringe | 0 |
ExifImageHeight | 237 |
ExifImageWidth | 1000 |
Exposure | +1.17 |
ExposureCompensation | -2/3 |
ExposureMode | Auto |
ExposureProgram | Program AE |
ExposureTime | 1/60 |
FillLight | 0 |
Firmware | 1.1.0 |
Flash | Off, Did not fire |
FlashCompensation | 0 |
FlashFired | False |
FlashFunction | False |
FlashMode | Off |
FlashRedEyeMode | False |
FlashReturn | No return detection |
FNumber | 4.0 |
FocalLength | 105.0 mm |
FocalLength35efl | 105.0 mm (35 mm equivalent: 131.6 mm) |
FOV | 15.6 deg |
GradientBasedCorrActive | true |
GradientBasedCorrAmount | 1.000000 |
GradientBasedCorrBrightness | 0.000000 |
GradientBasedCorrClarity | 0.000000 |
GradientBasedCorrContrast | 0.000000 |
GradientBasedCorrExposure (1) | -0.241379 |
GradientBasedCorrExposure | 0.264368 |
GradientBasedCorrHue | 230.000000 |
GradientBasedCorrMaskFullX (1) | 0.288791 |
GradientBasedCorrMaskFullX | 0.954265 |
GradientBasedCorrMaskFullY (1) | 0.173055 |
GradientBasedCorrMaskFullY | 0.474925 |
GradientBasedCorrMaskValue | 1.000000 |
GradientBasedCorrMaskWhat | Mask/Gradient |
GradientBasedCorrMaskZeroX (1) | 0.403317 |
GradientBasedCorrMaskZeroX | 0.770710 |
GradientBasedCorrMaskZeroY (1) | 0.553893 |
GradientBasedCorrMaskZeroY | 0.156171 |
GradientBasedCorrSaturation (1) | 0.034483 |
GradientBasedCorrSaturation | 0.000000 |
GradientBasedCorrSharpness | 0.000000 |
GradientBasedCorrWhat | Correction |
GreenHue | 0 |
GreenSaturation | 0 |
HasCrop | True |
HasSettings | True |
HierarchicalSubject | nordland |
HighlightRecovery | 0 |
HueAdjustmentAqua | 0 |
HueAdjustmentBlue | 0 |
HueAdjustmentGreen | 0 |
HueAdjustmentMagenta | 0 |
HueAdjustmentOrange | 0 |
HueAdjustmentPurple | 0 |
HueAdjustmentRed | 0 |
HueAdjustmentYellow | 0 |
HyperfocalDistance | 114.96 m |
ImageHeight | 237 |
ImageNumber | 18104 |
ImageSize | 1000x237 |
ImageWidth | 1000 |
ISO | 100 |
Keywords | nordland |
Lens | EF24-105mm f/4L IS USM |
LensInfo | 24-105mm f/? |
LightValue | 9.9 |
LuminanceAdjustmentAqua | 0 |
LuminanceAdjustmentBlue | 0 |
LuminanceAdjustmentGreen | 0 |
LuminanceAdjustmentMagenta | 0 |
LuminanceAdjustmentOrange | 0 |
LuminanceAdjustmentPurple | 0 |
LuminanceAdjustmentRed | 0 |
LuminanceAdjustmentYellow | 0 |
LuminanceSmoothing | 0 |
Make | Canon |
MaxApertureValue | 4.0 |
Megapixels | 0.237 |
MeteringMode | Multi-segment |
Model | Canon EOS-1D Mark II N |
ModifyDate (1) | 2009:03:11 13:59:54+01:00 |
ModifyDate | 2009:03:11 13:59:54 |
ParametricDarks | 0 |
ParametricHighlights | 0 |
ParametricHighlightSplit | 75 |
ParametricLights | 0 |
ParametricMidtoneSplit | 50 |
ParametricShadows | 0 |
ParametricShadowSplit | 25 |
PostCropVignetteAmount | 0 |
ProfileDescription | sRGB IEC61966-2.1 |
Rating | 2 |
RedHue | 0 |
RedSaturation | 0 |
Saturation | -10 |
SaturationAdjustmentAqua | 0 |
SaturationAdjustmentBlue | 0 |
SaturationAdjustmentGreen | 0 |
SaturationAdjustmentMagenta | 0 |
SaturationAdjustmentOrange | 0 |
SaturationAdjustmentPurple | 0 |
SaturationAdjustmentRed | 0 |
SaturationAdjustmentYellow | 0 |
ScaleFactor35efl | 1.3 |
SceneCaptureType | Standard |
SerialNumber | 426512 |
Shadows | 4 |
ShadowTint | 0 |
SharpenDetail | 25 |
SharpenEdgeMasking | 20 |
SharpenRadius | +1.0 |
Sharpness | 30 |
ShutterSpeed | 1/60 |
ShutterSpeedValue | 1/60 |
SplitToningBalance | 0 |
SplitToningHighlightHue | 0 |
SplitToningHighlightSaturation | 0 |
SplitToningShadowHue | 0 |
SplitToningShadowSaturation | 0 |
Subject | nordland |
Tint | -9 |
ToneCurve | 0, 0, 32, 22, 64, 56, 128, 128, 192, 196, 255, 255 |
ToneCurveName | Medium Contrast |
Version | 5.2 |
Vibrance | -21 |
VignetteAmount | 0 |
WhiteBalance (2) | Custom |
WhiteBalance | Manual |