Felt | Verdi |
AlreadyApplied | True |
Aperture | 5.6 |
ApertureValue | 5.6 |
BitsPerSample (1) | 16, 16, 16 |
BitsPerSample (2) | 16 16 16 |
BitsPerSample | 8 |
BlueHue | 0 |
BlueSaturation | 0 |
Brightness | +46 |
CameraProfile | ACR 4.2 |
ChromaticAberrationB | 0 |
ChromaticAberrationR | 0 |
CircleOfConfusion | 0.019 mm |
Clarity | 6 |
ColorComponents | 3 |
ColorMode | RGB |
ColorNoiseReduction | 20 |
ColorSpace (1) | Unknown (-1) |
ColorSpace | Uncalibrated |
ColorTemperature | 5571 |
Contrast | +34 |
ConvertToGrayscale | False |
CopyrightFlag | False |
CreateDate (1) | 2008:04:09 21:11:41+02:00 |
CreateDate | 2008:04:06 15:19:55 |
CreatorTool | Adobe Photoshop CS3 Windows |
CropAngle | 0 |
CropBottom | 0.949206 |
CropHeight | 2222 |
CropLeft | 0.253969 |
CropRight | 0.832805 |
CropTop | 0.092063 |
CropUnit | pixels |
CropWidth | 2251 |
CustomRendered | Normal |
DateTimeDigitized | 2008:04:06 15:19:55.02+02:00 |
DateTimeOriginal (1) | 2008:04:06 15:19:55.02+02:00 |
DateTimeOriginal | 2008:04:06 15:19:55 |
Defringe | 0 |
ExifImageHeight | 766 |
ExifImageWidth | 879 |
Exposure | +0.10 |
ExposureCompensation | -1/3 |
ExposureMode | Auto |
ExposureProgram | Aperture-priority AE |
ExposureTime | 1/50 |
FillLight | 4 |
Firmware | 1.0.4 |
Flash | Off, Did not fire |
FlashCompensation | 0 |
FlashFired | False |
FlashFunction | False |
FlashMode | Off |
FlashRedEyeMode | False |
FlashReturn | No return detection |
FNumber | 5.6 |
FocalLength | 400.0 mm |
FocalLength35efl | 400.0 mm (35 mm equivalent: 647.5 mm) |
Format | image/jpeg |
FOV | 3.2 deg |
GreenHue | 0 |
GreenSaturation | 0 |
HasCrop | True |
HasSettings | True |
HighlightRecovery | 0 |
HueAdjustmentAqua | 0 |
HueAdjustmentBlue | 0 |
HueAdjustmentGreen | 0 |
HueAdjustmentMagenta | 0 |
HueAdjustmentOrange | 0 |
HueAdjustmentPurple | 0 |
HueAdjustmentRed | 0 |
HueAdjustmentYellow | 0 |
HyperfocalDistance | 1539.34 m |
ICCProfileName | Adobe RGB (1998) |
ImageHeight (2) | 2222 |
ImageHeight | 766 |
ImageNumber | 0 |
ImageSize | 879x766 |
ImageWidth (1) | 2251 |
ImageWidth | 879 |
ISO | 800 |
Lens | EF100-400mm f/4.5-5.6L IS USM |
LensInfo | 100-400mm f/? |
LightValue | 7.6 |
LuminanceAdjustmentAqua | 0 |
LuminanceAdjustmentBlue | 0 |
LuminanceAdjustmentGreen | 0 |
LuminanceAdjustmentMagenta | 0 |
LuminanceAdjustmentOrange | 0 |
LuminanceAdjustmentPurple | 0 |
LuminanceAdjustmentRed | 0 |
LuminanceAdjustmentYellow | 0 |
LuminanceSmoothing | 11 |
Make | Canon |
MaxApertureValue | 5.7 |
Megapixels | 0.673 |
MeteringMode | Multi-segment |
Model | Canon EOS 40D |
ModifyDate (1) | 2008:04:09 21:11:41+02:00 |
ModifyDate | 2008:04:09 21:11:41 |
Orientation | Horizontal (normal) |
ParametricDarks | 0 |
ParametricHighlights | -5 |
ParametricHighlightSplit | 75 |
ParametricLights | 0 |
ParametricMidtoneSplit | 50 |
ParametricShadows | 0 |
ParametricShadowSplit | 25 |
PhotometricInterpretation | RGB |
PlanarConfiguration | Chunky |
ProfileDescription | Adobe RGB (1998) |
RedHue | 0 |
RedSaturation | 0 |
SamplesPerPixel | 3 |
Saturation | +7 |
SaturationAdjustmentAqua | 0 |
SaturationAdjustmentBlue | 0 |
SaturationAdjustmentGreen | 0 |
SaturationAdjustmentMagenta | 0 |
SaturationAdjustmentOrange | 0 |
SaturationAdjustmentPurple | 0 |
SaturationAdjustmentRed | 0 |
SaturationAdjustmentYellow | 0 |
ScaleFactor35efl | 1.6 |
SceneCaptureType | Standard |
SerialNumber | 630444448 |
Shadows | 0 |
ShadowTint | 0 |
SharpenDetail | 29 |
SharpenEdgeMasking | 0 |
SharpenRadius | +1.0 |
Sharpness | 34 |
ShutterSpeed | 1/50 |
ShutterSpeedValue | 1/50 |
Software | Adobe Photoshop CS3 Windows |
SplitToningBalance | 0 |
SplitToningHighlightHue | 0 |
SplitToningHighlightSaturation | 0 |
SplitToningShadowHue | 0 |
SplitToningShadowSaturation | 0 |
Tint | +3 |
ToneCurve | 0, 0, 32, 22, 64, 56, 128, 128, 192, 196, 255, 255 |
ToneCurveName | Medium Contrast |
URL_List | |
Version | 1.0 |
Vibrance | 0 |
VignetteAmount | 0 |
WhiteBalance (2) | Custom |
WhiteBalance | Auto |