Felt | Verdi |
2018-06-14T11:25:13+02:00 Filen D:\PSAutoRecover\Torild\__74A12765FA15BDA5EA01711F7ACAC4DFC0D699F.psb er lagret
2018-06-14T11:32:25+02:00 Filen E:\2018\ungene\psd\_74A1276.psd er lagret
2018-06-14T11:34:57+02:00 Filen D:\PSAutoRecover\Torild\__74A1276B10D6270EDF30BCBBE0D8F854E65CF37.psb er lagret
2018-06-14T11:44:33+02:00 Filen D:\PSAutoRecover\Torild\__74A1276B10D6270EDF30BCBBE0D8F854E65CF37.psb er lagret
2018-06-14T11:47+02:00 Filen E:\2018\ungene\psd\_74A1276.psd er lagret
2018-06-14T11:54:09+02:00 Filen D:\PSAutoRecover\Torild\__74A1276B10D6270EDF30BCBBE0D8F854E65CF37.psb er lagret
2018-06-14T12:03:45+02:00 Filen D:\PSAutoRecover\Torild\__74A1276B10D6270EDF30BCBBE0D8F854E65CF37.psb er lagret
2018-06-14T12:13:21+02:00 Filen D:\PSAutoRecover\Torild\__74A1276B10D6270EDF30BCBBE0D8F854E65CF37.psb er lagret
2018-06-14T12:19:51+02:00 Filen E:\2018\ungene\psd\_74A1276.psd er lagret
2018-06-14T12:49:05+02:00 Filen E:\2018\ungene\psd\_74A1276.psd er lagret
2018-06-14T12:59:06+02:00 Filen E:\2018\ungene\psd\_74A1276.psd er lagret
2018-06-14T13:01:26+02:00 Filen D:\PSAutoRecover\Torild\__74A1276B10D6270EDF30BCBBE0D8F854E65CF37.psb er lagret
2018-06-14T13:03:49+02:00 Filen E:\2018\ungene\psd\_74A1276.psd er lagret
2018-06-14T13:11:02+02:00 Filen D:\PSAutoRecover\Torild\__74A1276B10D6270EDF30BCBBE0D8F854E65CF37.psb er lagret
2018-06-14T13:12:56+02:00 Filen E:\2018\ungene\psd\_74A1276.psd er lagret
2018-06-14T13:18:07+02:00 Filen E:\2018\ungene\psd\_74A1276.psd er lagret
2018-06-14T13:20:38+02:00 Filen D:\PSAutoRecover\Torild\__74A1276B10D6270EDF30BCBBE0D8F854E65CF37.psb er lagret
2018-06-14T13:30:14+02:00 Filen D:\PSAutoRecover\Torild\__74A1276B10D6270EDF30BCBBE0D8F854E65CF37.psb er lagret
2018-06-14T13:31:13+02:00 Filen E:\2018\ungene\psd\_74A1276.psd er lagret
2018-06-14T13:35:10+02:00 Filen E:\2018\ungene\jpg\_74A1276_bw.jpg er lagret
2018-06-14T13:36:36+02:00 Filen E:\2018\ungene\jpg\_74A1276.jpg er lagret
AlreadyApplied | True |
Aperture | 3.2 |
ApertureValue | 3.2 |
Artist | Torild Vangen |
AutoLateralCA | 0 |
AutoWhiteVersion | 134348800 |
BitsPerSample | 8 |
Blacks2012 | +48 |
BlueHue | 0 |
BlueSaturation | 0 |
By-line | Torild Vangen |
CameraProfile | Adobe Standard |
CircleOfConfusion | 0.029 mm |
Clarity2012 | 0 |
ColorComponents | 3 |
ColorMode | RGB |
ColorNoiseReduction | 25 |
ColorNoiseReductionDetail | 50 |
ColorNoiseReductionSmoothness | 50 |
ColorSpace | Uncalibrated |
ColorTemperature | 5400 |
ColorTransform | YCbCr |
Contrast2012 | +16 |
ConvertToGrayscale | False |
CreateDate | 2018:06:10 09:17:33 |
Creator | Torild Vangen |
CustomRendered | Normal |
DateCreated (1) | 2018:06:10 |
DateCreated | 2018:06:10 09:17:33.013 |
DateTimeOriginal | 2018:06:10 09:17:33 |
DefringeGreenAmount | 0 |
DefringeGreenHueHi | 60 |
DefringeGreenHueLo | 40 |
DefringePurpleAmount | 0 |
DefringePurpleHueHi | 70 |
DefringePurpleHueLo | 30 |
Dehaze | 0 |
ExifImageHeight | 3697 |
ExifImageWidth | 5546 |
Exposure2012 | -0.65 |
ExposureCompensation | 0 |
ExposureMode | Manual |
ExposureProgram | Manual |
ExposureTime | 1/1000 |
Firmware | 1.3.3 |
Flash | Off, Did not fire |
FlashCompensation | 0 |
FNumber | 3.2 |
FocalLength | 50.0 mm |
FocalLength35efl | 50.0 mm (35 mm equivalent: 51.9 mm) |
Format | image/jpeg |
FOV | 38.2 deg |
GrainAmount | 0 |
GreenHue | 0 |
GreenSaturation | 0 |
HasCrop | False |
HasSettings | True |
Highlights2012 | -90 |
HueAdjustmentAqua | 0 |
HueAdjustmentBlue | 0 |
HueAdjustmentGreen | 0 |
HueAdjustmentMagenta | 0 |
HueAdjustmentOrange | 0 |
HueAdjustmentPurple | 0 |
HueAdjustmentRed | 0 |
HueAdjustmentYellow | 0 |
HyperfocalDistance | 27.01 m |
ICCProfileName | Adobe RGB (1998) |
ImageHeight | 3697 |
ImageNumber | 0 |
ImageSize | 5546x3697 |
ImageWidth | 5546 |
ISO | 200 |
Lens | EF50mm f/1.8 II |
LensID (1) | 29 |
LensID | Canon EF 50mm f/1.8 II |
LensInfo | 50mm f/? |
LensManualDistortionAmount | 0 |
LensModel | EF50mm f/1.8 II |
LensProfileEnable | 0 |
LensProfileSetup | LensDefaults |
LensSerialNumber | 0000000000 |
LightValue | 12.3 |
LuminanceAdjustmentAqua | 0 |
LuminanceAdjustmentBlue | 0 |
LuminanceAdjustmentGreen | 0 |
LuminanceAdjustmentMagenta | 0 |
LuminanceAdjustmentOrange | 0 |
LuminanceAdjustmentPurple | 0 |
LuminanceAdjustmentRed | 0 |
LuminanceAdjustmentYellow | 0 |
LuminanceSmoothing | 0 |
Make | Canon |
MaxApertureValue | 1.8 |
Megapixels | 20.5 |
MeteringMode | Spot |
Model | Canon EOS 5D Mark III |
ModifyDate (1) | 2018:06:14 13:36:36+02:00 |
ModifyDate | 2018:06:14 13:36:36 |
Orientation | Horizontal (normal) |
ParametricDarks | 0 |
ParametricHighlights | 0 |
ParametricHighlightSplit | 75 |
ParametricLights | 0 |
ParametricMidtoneSplit | 50 |
ParametricShadows | 0 |
ParametricShadowSplit | 25 |
PerspectiveAspect | 0 |
PerspectiveHorizontal | 0 |
PerspectiveRotate | 0.0 |
PerspectiveScale | 100 |
PerspectiveUpright | 0 |
PerspectiveVertical | 0 |
PerspectiveX | 0.00 |
PerspectiveY | 0.00 |
PostCropVignetteAmount | 0 |
ProcessVersion | 6.7 |
ProfileDescription | Adobe RGB (1998) |
Rating | 0 |
RawFileName | _74A1276.CR2 |
RecommendedExposureIndex | 200 |
RedHue | 0 |
RedSaturation | 0 |
Saturation | 0 |
SaturationAdjustmentAqua | 0 |
SaturationAdjustmentBlue | 0 |
SaturationAdjustmentGreen | 0 |
SaturationAdjustmentMagenta | 0 |
SaturationAdjustmentOrange | 0 |
SaturationAdjustmentPurple | 0 |
SaturationAdjustmentRed | 0 |
SaturationAdjustmentYellow | 0 |
ScaleFactor35efl | 1.0 |
SceneCaptureType | Standard |
SensitivityType | Recommended Exposure Index |
SerialNumber | 033024002594 |
Shadows2012 | +78 |
ShadowTint | 0 |
SharpenDetail | 25 |
SharpenEdgeMasking | 0 |
SharpenRadius | +1.0 |
Sharpness | 25 |
ShutterSpeed | 1/1000 |
ShutterSpeedValue | 1/1000 |
Software | Adobe Photoshop CC 2017 (Windows) |
SplitToningBalance | 0 |
SplitToningHighlightHue | 0 |
SplitToningHighlightSaturation | 0 |
SplitToningShadowHue | 0 |
SplitToningShadowSaturation | 0 |
Tint | +10 |
ToneCurve | 0, 0, 32, 22, 64, 56, 128, 128, 192, 196, 255, 255 |
ToneCurveBlue | 0, 0, 255, 255 |
ToneCurveGreen | 0, 0, 255, 255 |
ToneCurveName | Medium Contrast |
ToneCurveName2012 | Linear |
ToneCurvePV2012 | 0, 0, 255, 255 |
ToneCurvePV2012Blue | 0, 0, 255, 255 |
ToneCurvePV2012Green | 0, 0, 255, 255 |
ToneCurvePV2012Red | 0, 0, 255, 255 |
ToneCurveRed | 0, 0, 255, 255 |
ToneMapStrength | 0 |
URL_List | |
Version | 9.10 |
Vibrance | 0 |
VignetteAmount | 0 |
WhiteBalance (1) | Custom |
WhiteBalance | Manual |
Whites2012 | 0 |