Felt | Verdi |
AlreadyApplied | True |
AutoLateralCA | 0 |
BitsPerSample | 8 |
Blacks2012 | -29 |
BlueBalance | 0.544776 |
BlueHue | 0 |
BlueSaturation | 0 |
CameraProfile | Embedded |
Clarity2012 | +19 |
ColorComponents | 3 |
ColorNoiseReduction | 61 |
ColorNoiseReductionDetail | 82 |
ColorTemperature | 5250 |
ColorTransform | YCbCr |
Contrast | Normal |
Contrast2012 | +17 |
ConvertToGrayscale | True |
CreateDate | 2016:12:04 14:53:40 |
CreatorTool | Adobe Photoshop Lightroom 4.4 (Windows) |
CustomRendered | Custom |
DateCreated (1) | 2016:12:04 |
DateCreated | 2016:12:04 14:53:40 |
DateTimeOriginal | 2016:12:04 14:53:40 |
DigitalZoomRatio | 1 |
Exposure2012 | 0.00 |
ExposureCompensation | 0 |
ExposureMode | Unknown (3 1 0 0) |
ExposureProgram | Manual |
ExposureTime | 1/125 |
FileIndex | 1726 |
FilmMode | Natural |
Flash | Off, Did not fire |
FocusDistance | 0 m |
Format | image/jpeg |
GPSStatus | Measurement Void |
GrainAmount | 0 |
GrayMixerAqua | -2 |
GrayMixerBlue | -24 |
GrayMixerGreen | 0 |
GrayMixerMagenta | +4 |
GrayMixerOrange | -42 |
GrayMixerPurple | +2 |
GrayMixerRed | -9 |
GrayMixerYellow | -49 |
GreenHue | 0 |
GreenSaturation | 0 |
HasCrop | False |
HasSettings | True |
Highlights2012 | 0 |
ImageHeight | 3264 |
ImageSize | 4928x3264 |
ImageWidth | 4928 |
InternalSerialNumber | 000000000000 |
ISO | 400 |
Lens | M-Adapter T |
LensInfo | 35mm f/2.8 |
LensMake | LEICA CAMERA AG |
LensManualDistortionAmount | 0 |
LensModel | M-Adapter T |
LensProfileEnable | 0 |
LensProfileSetup | LensDefaults |
LensSerialNumber | N/A |
LensType | M-Adapter T |
LightSource | Unknown |
LuminanceNoiseReductionContrast | 95 |
LuminanceNoiseReductionDetail | 100 |
LuminanceSmoothing | 26 |
Make | LEICA CAMERA AG |
MakerNoteSafety | Safe |
MaxApertureValue | 1.0 |
Megapixels | 16.1 |
MeteringMode | Multi-segment |
Model | LEICA T (Typ 701) |
ModifyDate (1) | 2016:12:08 22:21:48+01:00 |
ModifyDate | 2016:12:08 22:21:48 |
OriginalDirectory | 100LEICA |
OriginalFileName | L1001726.DNG |
ParametricDarks | 0 |
ParametricHighlights | 0 |
ParametricHighlightSplit | 75 |
ParametricLights | 0 |
ParametricMidtoneSplit | 50 |
ParametricShadows | 0 |
ParametricShadowSplit | 25 |
PerspectiveHorizontal | 0 |
PerspectiveRotate | 0.0 |
PerspectiveScale | 100 |
PerspectiveVertical | 0 |
PostCropVignetteAmount | 0 |
ProcessVersion | 6.7 |
ProfileDescription | sRGB IEC61966-2.1 |
RedBalance | 0.360876 |
RedHue | 0 |
RedSaturation | 0 |
Saturation | Normal |
SceneCaptureType | Landscape |
SensingMethod | One-chip color area |
SensitivityType | Standard Output Sensitivity |
SerialNumber (1) | 4820480 |
SerialNumber | 000004820480 |
Shadows2012 | 0 |
ShadowTint | 0 |
SharpenDetail | 42 |
SharpenEdgeMasking | 50 |
SharpenRadius | +1.0 |
Sharpness (1) | 59 |
Sharpness | Normal |
ShutterSpeed | 1/125 |
ShutterSpeedValue | 1/125 |
Software | Adobe Photoshop Lightroom 4.4 (Windows) |
SplitToningBalance | 0 |
SplitToningHighlightHue | 0 |
SplitToningHighlightSaturation | 0 |
SplitToningShadowHue | 0 |
SplitToningShadowSaturation | 0 |
Tint | +49 |
ToneCurveName2012 | Linear |
ToneCurvePV2012 | 0, 0, 255, 255 |
ToneCurvePV2012Blue | 0, 0, 255, 255 |
ToneCurvePV2012Green | 0, 0, 255, 255 |
ToneCurvePV2012Red | 0, 0, 255, 255 |
Version | 7.4 |
VignetteAmount | 0 |
WB_RGBLevels | 0.3615819209 1.001956947 0.5458422175 |
WhiteBalance (1) | As Shot |
WhiteBalance | Auto |
Whites2012 | 0 |