Felt | Verdi |
AlreadyApplied | True |
Aperture | 5.6 |
ApertureValue | 5.6 |
ApproximateFocusDistance | 165 |
Artist | JANNE G.ERIKSEN |
AutoLateralCA | 0 |
BitsPerSample | 8 |
Blacks2012 | 0 |
BlueHue | 0 |
BlueSaturation | 0 |
Brightness | +50 |
By-line | JANNE G.ERIKSEN |
CameraProfile | Adobe Standard |
CircleOfConfusion | 0.005 mm |
Clarity | 0 |
Clarity2012 | 0 |
ColorComponents | 3 |
ColorMode | RGB |
ColorNoiseReduction | 25 |
ColorNoiseReductionDetail | 50 |
ColorSpace | Uncalibrated |
ColorTemperature | 6150 |
ColorTransform | YCbCr |
Contrast | +100 |
Contrast2012 | 0 |
ConvertToGrayscale | False |
CreateDate (1) | 2016:07:31 17:29:33.00 |
CreateDate | 2016:07:31 17:29:33 |
Creator | JANNE G.ERIKSEN |
CreatorTool | Adobe DNG Converter 8.7.1 (Windows) |
CustomRendered | Normal |
DateCreated (1) | 2016:07:31 |
DateCreated | 2016:07:31 17:29:33 |
DateTimeOriginal | 2016:07:31 17:29:33 |
Defringe | 0 |
DOF | 39.60 m (147.54 - 187.14 m) |
ExifImageHeight | 1052 |
ExifImageWidth | 1474 |
Exposure | 0.00 |
Exposure2012 | 0.00 |
ExposureCompensation | 0 |
ExposureMode | Auto |
ExposureProgram | Aperture-priority AE |
ExposureTime | 1/1000 |
FillLight | 49 |
Firmware | 1.1.1 |
Flash | Off, Did not fire |
FlashCompensation | 0 |
FNumber | 5.6 |
FocalLength | 200.0 mm |
FocalLength35efl | 200.0 mm (35 mm equivalent: 1171.7 mm) |
Format | image/jpeg |
FOV | 1.8 deg |
GrainAmount | 0 |
GreenHue | 0 |
GreenSaturation | 0 |
HasCrop | False |
HasSettings | True |
HighlightRecovery | 0 |
Highlights2012 | 0 |
HueAdjustmentAqua | 0 |
HueAdjustmentBlue | 0 |
HueAdjustmentGreen | 0 |
HueAdjustmentMagenta | 0 |
HueAdjustmentOrange | 0 |
HueAdjustmentPurple | 0 |
HueAdjustmentRed | 0 |
HueAdjustmentYellow | 0 |
HyperfocalDistance | 1392.77 m |
ICCProfileName | Adobe RGB (1998) |
ImageHeight | 1052 |
ImageNumber | 0 |
ImageSize | 1474x1052 |
ImageWidth | 1474 |
ISO | 100 |
Lens | EF-S18-200mm f/3.5-5.6 IS |
LensID (1) | 50 |
LensID | Canon EF-S 18-200mm f/3.5-5.6 IS |
LensInfo | 18-200mm f/? |
LensManualDistortionAmount | 0 |
LensModel | EF-S18-200mm f/3.5-5.6 IS |
LensProfileEnable | 0 |
LensProfileSetup | LensDefaults |
LensSerialNumber | 0000a03849 |
LightValue | 14.9 |
LuminanceAdjustmentAqua | 0 |
LuminanceAdjustmentBlue | 0 |
LuminanceAdjustmentGreen | 0 |
LuminanceAdjustmentMagenta | 0 |
LuminanceAdjustmentOrange | 0 |
LuminanceAdjustmentPurple | 0 |
LuminanceAdjustmentRed | 0 |
LuminanceAdjustmentYellow | 0 |
LuminanceSmoothing | 0 |
Make | Canon |
MaxApertureValue | 5.7 |
Megapixels | 1.6 |
MeteringMode | Multi-segment |
Model | Canon EOS 70D |
ModifyDate (1) | 2016:08:13 22:35:16+02:00 |
ModifyDate | 2016:08:13 22:35:16 |
Orientation | Horizontal (normal) |
ParametricDarks | 0 |
ParametricHighlights | 0 |
ParametricHighlightSplit | 75 |
ParametricLights | 0 |
ParametricMidtoneSplit | 50 |
ParametricShadows | 0 |
ParametricShadowSplit | 25 |
PerspectiveHorizontal | 0 |
PerspectiveRotate | 0.0 |
PerspectiveScale | 100 |
PerspectiveVertical | 0 |
PostCropVignetteAmount | 0 |
ProcessVersion | 5.7 |
ProfileDescription | Adobe RGB (1998) |
Rating | 0 |
RawFileName | _MG_5641.dng |
RecommendedExposureIndex | 100 |
RedHue | 0 |
RedSaturation | 0 |
Saturation | 0 |
SaturationAdjustmentAqua | 0 |
SaturationAdjustmentBlue | 0 |
SaturationAdjustmentGreen | 0 |
SaturationAdjustmentMagenta | 0 |
SaturationAdjustmentOrange | 0 |
SaturationAdjustmentPurple | 0 |
SaturationAdjustmentRed | 0 |
SaturationAdjustmentYellow | 0 |
ScaleFactor35efl | 5.9 |
SceneCaptureType | Standard |
SensitivityType | Recommended Exposure Index |
SerialNumber | 133026007558 |
Shadows | 28 |
Shadows2012 | 0 |
ShadowTint | 0 |
SharpenDetail | 25 |
SharpenEdgeMasking | 0 |
SharpenRadius | +1.0 |
Sharpness | 0 |
ShutterSpeed | 1/1000 |
ShutterSpeedValue | 1/1000 |
Software | Adobe Photoshop CS5 Windows |
SplitToningBalance | 0 |
SplitToningHighlightHue | 0 |
SplitToningHighlightSaturation | 0 |
SplitToningShadowHue | 0 |
SplitToningShadowSaturation | 0 |
SubjectDistance | 165 m |
Tint | +11 |
ToneCurve | 0, 0, 32, 22, 64, 56, 128, 128, 192, 196, 255, 255 |
ToneCurveBlue | 0, 0, 255, 255 |
ToneCurveGreen | 0, 0, 255, 255 |
ToneCurveName | Medium Contrast |
ToneCurveName2012 | Linear |
ToneCurvePV2012 | 0, 0, 255, 255 |
ToneCurvePV2012Blue | 0, 0, 255, 255 |
ToneCurvePV2012Green | 0, 0, 255, 255 |
ToneCurvePV2012Red | 0, 0, 255, 255 |
ToneCurveRed | 0, 0, 255, 255 |
URL_List | |
Version | 6.7 |
Vibrance | 0 |
VignetteAmount | 0 |
WhiteBalance (1) | Custom |
WhiteBalance | Manual |
Whites2012 | 0 |