Felt | Verdi |
AlreadyApplied | True |
Aperture | 4.5 |
ApertureValue | 4.5 |
ApproximateFocusDistance | 4 |
Artist | LasseKristiansen |
AutoLateralCA | 0 |
AutoWhiteVersion | 134348800 |
BitsPerSample | 8 |
Blacks2012 | -74 |
BlueHue | 0 |
BlueSaturation | 0 |
By-line | LasseKristiansen |
CameraProfile | Adobe Standard |
CircleOfConfusion | 0.020 mm |
Clarity2012 | +100 |
ColorComponents | 3 |
ColorNoiseReduction | 25 |
ColorNoiseReductionDetail | 50 |
ColorNoiseReductionSmoothness | 50 |
ColorTemperature | 6651 |
ColorTransform | YCbCr |
Contrast | High |
Contrast2012 | -35 |
ConvertToGrayscale | True |
Copyright | LasseKristiansen |
CopyrightNotice | LasseKristiansen |
CreateDate | 2015:04:20 17:44:00 |
Creator | LasseKristiansen |
CreatorTool | Adobe Photoshop Lightroom 5.3 (Macintosh) |
CropAngle | 0.58271 |
CropBottom | 0.95022 |
CropConstrainToWarp | 0 |
CropLeft | 0.015946 |
CropRight | 0.984054 |
CropTop | 0.111596 |
CustomRendered | Normal |
DateCreated (1) | 2015:04:20 |
DateCreated | 2015:04:20 17:44:00 |
DateTimeOriginal | 2015:04:20 17:44:00 |
DOF | 0.48 m (3.77 - 4.25 m) |
Exposure2012 | -1.10 |
ExposureCompensation | +0.7 |
ExposureMode | Manual |
ExposureProgram | Manual |
ExposureTime | 1/2000 |
Flash | Off, Did not fire |
FNumber | 4.5 |
FocalLength | 77.0 mm |
FocalLength35efl | 77.0 mm (35 mm equivalent: 115.0 mm) |
FocalLengthIn35mmFormat | 115 mm |
Format | image/jpeg |
FOV | 17.8 deg |
GradientBasedCorrActive | true |
GradientBasedCorrAmount | 1.000000 |
GradientBasedCorrBrightness | 0.000000 |
GradientBasedCorrClarity2012 (1) | -0.143346 |
GradientBasedCorrClarity2012 | 0.000000 |
GradientBasedCorrContrast2012 (1) | 0.727089 |
GradientBasedCorrContrast2012 | 0.000000 |
GradientBasedCorrDefringe | 0.000000 |
GradientBasedCorrExposure2012 (1) | 0.561622 |
GradientBasedCorrExposure2012 | 0.122279 |
GradientBasedCorrHighlights2012 (1) | 0.502721 |
GradientBasedCorrHighlights2012 | 0.000000 |
GradientBasedCorrHue (1) | 215.625000 |
GradientBasedCorrHue | 240.000000 |
GradientBasedCorrLuminanceNoise | 0.000000 |
GradientBasedCorrMaskFullX (1) | 0.798239 |
GradientBasedCorrMaskFullX | 0.568138 |
GradientBasedCorrMaskFullY (1) | 0.795014 |
GradientBasedCorrMaskFullY | 0.138724 |
GradientBasedCorrMaskValue | 1.000000 |
GradientBasedCorrMaskWhat | Mask/Gradient |
GradientBasedCorrMaskZeroX (1) | 0.425338 |
GradientBasedCorrMaskZeroX | 0.570759 |
GradientBasedCorrMaskZeroY (1) | 0.353905 |
GradientBasedCorrMaskZeroY | 0.285171 |
GradientBasedCorrMoire | 0.000000 |
GradientBasedCorrSaturation (1) | 1.000000 |
GradientBasedCorrSaturation (2) | 0.653061 |
GradientBasedCorrSaturation | 0.000000 |
GradientBasedCorrShadows2012 (1) | 1.000000 |
GradientBasedCorrShadows2012 | 0.000000 |
GradientBasedCorrSharpness (1) | 0.011060 |
GradientBasedCorrSharpness | 0.000000 |
GradientBasedCorrTemperature (1) | 0.088483 |
GradientBasedCorrTemperature | 0.000000 |
GradientBasedCorrTint | 0.000000 |
GradientBasedCorrWhat | Correction |
GrainAmount | 0 |
GrayMixerAqua | -18 |
GrayMixerBlue | +9 |
GrayMixerGreen | -27 |
GrayMixerMagenta | +4 |
GrayMixerOrange | -19 |
GrayMixerPurple | +15 |
GrayMixerRed | -10 |
GrayMixerYellow | -23 |
GreenHue | 0 |
GreenSaturation | 0 |
HasCrop | True |
HasExtendedXMP | A0751756E95CB2968F2895B0BF6F7473 |
HasSettings | True |
Highlights2012 | +44 |
HyperfocalDistance | 65.49 m |
ImageHeight | 3295 |
ImageSize | 5858x3295 |
ImageWidth | 5858 |
ISO | 100 |
Lens | smc PENTAX-FA 77mm F1.8 Limited |
LensID (1) | 4 24 |
LensID | smc PENTAX-FA 77mm F1.8 Limited |
LensInfo | 77mm f/1.8 |
LensManualDistortionAmount | 0 |
LensModel | smc PENTAX-FA 77mm F1.8 Limited |
LensProfileEnable | 0 |
LensProfileSetup | LensDefaults |
LightValue | 15.3 |
LuminanceNoiseReductionContrast | 0 |
LuminanceNoiseReductionDetail | 50 |
LuminanceSmoothing | 64 |
Make | RICOH IMAGING COMPANY, LTD. |
Megapixels | 19.3 |
MeteringMode | Spot |
Model | PENTAX K-3 |
ModifyDate (1) | 2015:04:24 14:13:26+02:00 |
ModifyDate | 2015:04:24 14:13:26 |
PaintCorrectionActive | true |
PaintCorrectionAmount | 1.000000 |
PaintCorrectionBrightness | 0.000000 |
PaintCorrectionClarity2012 (12) | 1.000000 |
PaintCorrectionClarity2012 (5) | 0.819698 |
PaintCorrectionClarity2012 | 0.718662 |
PaintCorrectionContrast2012 (1) | 0.453301 |
PaintCorrectionContrast2012 (2) | -0.138343 |
PaintCorrectionContrast2012 (4) | 0.727089 |
PaintCorrectionContrast2012 (5) | -0.289765 |
PaintCorrectionContrast2012 (8) | 0.189168 |
PaintCorrectionContrast2012 | 0.375614 |
PaintCorrectionDefringe | 0.000000 |
PaintCorrectionExposure2012 (1) | 1.000000 |
PaintCorrectionExposure2012 (10) | -0.188202 |
PaintCorrectionExposure2012 (11) | -0.081373 |
PaintCorrectionExposure2012 (12) | -0.045119 |
PaintCorrectionExposure2012 (2) | 0.610867 |
PaintCorrectionExposure2012 (3) | 0.288711 |
PaintCorrectionExposure2012 (4) | 0.023876 |
PaintCorrectionExposure2012 (5) | 0.540028 |
PaintCorrectionExposure2012 (6) | -0.080495 |
PaintCorrectionExposure2012 (7) | 0.080232 |
PaintCorrectionExposure2012 (8) | 0.363940 |
PaintCorrectionExposure2012 (9) | -0.023964 |
PaintCorrectionExposure2012 | -0.096647 |
PaintCorrectionHighlights2012 (1) | 0.836376 |
PaintCorrectionHighlights2012 (12) | 0.230952 |
PaintCorrectionHighlights2012 (5) | -0.482795 |
PaintCorrectionHighlights2012 (7) | 0.000000 |
PaintCorrectionHighlights2012 | -0.622630 |
PaintCorrectionHue (1) | 61.875000 |
PaintCorrectionHue | 215.625000 |
PaintCorrectionLuminanceNoise | 0.000000 |
PaintCorrectionMaskCenterWeight (269) | 0.046372 |
PaintCorrectionMaskCenterWeight | 0.030462 |
PaintCorrectionMaskFlow (204) | 0.964440 |
PaintCorrectionMaskFlow (262) | 0.834603 |
PaintCorrectionMaskFlow | 1.000000 |
PaintCorrectionMaskRadius (105) | 0.032542 |
PaintCorrectionMaskRadius (112) | 0.016890 |
PaintCorrectionMaskRadius (116) | 0.007231 |
PaintCorrectionMaskRadius (122) | 0.002579 |
PaintCorrectionMaskRadius (123) | 0.002201 |
PaintCorrectionMaskRadius (126) | 0.101469 |
PaintCorrectionMaskRadius (127) | 0.084668 |
PaintCorrectionMaskRadius (131) | 0.151679 |
PaintCorrectionMaskRadius (132) | 0.066431 |
PaintCorrectionMaskRadius (152) | 0.045316 |
PaintCorrectionMaskRadius (163) | 0.039575 |
PaintCorrectionMaskRadius (165) | 0.028395 |
PaintCorrectionMaskRadius (186) | 0.057095 |
PaintCorrectionMaskRadius (190) | 0.063135 |
PaintCorrectionMaskRadius (20) | 0.012372 |
PaintCorrectionMaskRadius (202) | 0.017613 |
PaintCorrectionMaskRadius (203) | 0.027229 |
PaintCorrectionMaskRadius (208) | 0.011864 |
PaintCorrectionMaskRadius (246) | 0.051156 |
PaintCorrectionMaskRadius (26) | 0.072414 |
PaintCorrectionMaskRadius (275) | 0.050557 |
PaintCorrectionMaskRadius (4) | 0.033935 |
PaintCorrectionMaskRadius (40) | 0.078493 |
PaintCorrectionMaskRadius (44) | 0.037951 |
PaintCorrectionMaskRadius (54) | 0.263941 |
PaintCorrectionMaskRadius (59) | 0.022954 |
PaintCorrectionMaskRadius (60) | 0.048738 |
PaintCorrectionMaskRadius (65) | 0.196856 |
PaintCorrectionMaskRadius (82) | 0.002689 |
PaintCorrectionMaskRadius (85) | 0.136160 |
PaintCorrectionMaskRadius | 0.134565 |
PaintCorrectionMaskValue (31) | 0.000000 |
PaintCorrectionMaskValue | 1.000000 |
PaintCorrectionMaskWhat | Mask/Paint |
PaintCorrectionMoire | 0.000000 |
PaintCorrectionSaturation (13) | 0.517205 |
PaintCorrectionSaturation (14) | 1.000000 |
PaintCorrectionSaturation (2) | 0.957227 |
PaintCorrectionSaturation (23) | -0.599192 |
PaintCorrectionSaturation (25) | 0.000000 |
PaintCorrectionSaturation (3) | -0.216819 |
PaintCorrectionSaturation (9) | -1.000000 |
PaintCorrectionSaturation | 0.653061 |
PaintCorrectionShadows2012 (1) | 0.710586 |
PaintCorrectionShadows2012 (10) | -0.457602 |
PaintCorrectionShadows2012 (12) | 0.250790 |
PaintCorrectionShadows2012 (5) | 0.028441 |
PaintCorrectionShadows2012 | 0.385885 |
PaintCorrectionSharpness | 0.000000 |
PaintCorrectionTemperature (1) | 1.000000 |
PaintCorrectionTemperature (5) | -0.655460 |
PaintCorrectionTemperature (7) | 0.677230 |
PaintCorrectionTemperature | -0.205320 |
PaintCorrectionTint | 0.000000 |
PaintCorrectionWhat | Correction |
ParametricDarks | +26 |
ParametricHighlights | -12 |
ParametricHighlightSplit | 75 |
ParametricLights | 0 |
ParametricMidtoneSplit | 50 |
ParametricShadows | +10 |
ParametricShadowSplit | 25 |
PerspectiveAspect | 0 |
PerspectiveHorizontal | 0 |
PerspectiveRotate | 0.0 |
PerspectiveScale | 100 |
PerspectiveUpright | 0 |
PerspectiveVertical | 0 |
PostCropVignetteAmount | 0 |
ProcessVersion | 6.7 |
ProfileDescription | sRGB IEC61966-2.1 |
RedHue | 0 |
RedSaturation | 0 |
Rights | LasseKristiansen |
Saturation | Low |
ScaleFactor35efl | 1.5 |
SceneCaptureType | Standard |
SensingMethod | One-chip color area |
SensitivityType | Standard Output Sensitivity |
Shadows2012 | +39 |
ShadowTint | 0 |
SharpenDetail | 25 |
SharpenEdgeMasking | 0 |
SharpenRadius | +1.0 |
Sharpness (1) | 25 |
Sharpness | Hard |
ShutterSpeed | 1/2000 |
ShutterSpeedValue | 1/2000 |
Software | Adobe Photoshop Lightroom 5.3 (Macintosh) |
SplitToningBalance | 0 |
SplitToningHighlightHue | 0 |
SplitToningHighlightSaturation | 0 |
SplitToningShadowHue | 0 |
SplitToningShadowSaturation | 0 |
StandardOutputSensitivity | 100 |
SubjectDistanceRange | Distant |
Tint | +16 |
ToneCurveName2012 | Linear |
ToneCurvePV2012 | 0, 0, 255, 255 |
ToneCurvePV2012Blue | 0, 0, 255, 255 |
ToneCurvePV2012Green | 0, 0, 255, 255 |
ToneCurvePV2012Red | 0, 0, 255, 255 |
Version | 8.3 |
VignetteAmount | 0 |
WhiteBalance (1) | Custom |
WhiteBalance | Auto |
Whites2012 | -28 |