Felt | Verdi |
AlreadyApplied | True |
Aperture | 11.0 |
ApertureValue | 11.0 |
ApproximateFocusDistance | 4294967295 |
AutoLateralCA | 1 |
AutoWhiteVersion | 134348800 |
BitsPerSample | 8 |
Blacks2012 | -40 |
BlueHue | 0 |
BlueSaturation | 0 |
CameraProfile | Adobe Standard |
CFAPattern | [Red,Green][Green,Blue] |
CircleOfConfusion | 0.030 mm |
Clarity2012 | 0 |
ColorComponents | 3 |
ColorNoiseReduction | 25 |
ColorNoiseReductionDetail | 50 |
ColorNoiseReductionSmoothness | 50 |
ColorTemperature | 6250 |
ColorTransform | YCbCr |
Contrast | Normal |
Contrast2012 | +49 |
ConvertToGrayscale | False |
Copyright | Ole Morten Eyra |
CopyrightNotice | Ole Morten Eyra |
CreateDate (1) | 2015:05:27 18:16:31.14 |
CreateDate | 2015:05:27 18:16:31 |
CreatorTool | Adobe Photoshop Lightroom 5.7 (Macintosh) |
CropAngle | 1.53597 |
CropBottom | 0.890479 |
CropConstrainToWarp | 0 |
CropLeft | 0.114373 |
CropRight | 0.813037 |
CropTop | 0.15129 |
CustomRendered | Custom |
DateCreated (1) | 2015:05:27 |
DateCreated | 2015:05:27 18:16:31.14 |
DateTimeOriginal | 2015:05:27 18:16:31 |
DefringeGreenAmount | 0 |
DefringeGreenHueHi | 60 |
DefringeGreenHueLo | 40 |
DefringePurpleAmount | 0 |
DefringePurpleHueHi | 70 |
DefringePurpleHueLo | 30 |
DigitalZoomRatio | 1 |
DOF | inf (3.71 m - inf) |
Exposure2012 | +0.15 |
ExposureCompensation | 0 |
ExposureMode | Manual |
ExposureProgram | Manual |
ExposureTime | 5 |
Flash | Off, Did not fire |
FNumber | 11.0 |
FocalLength | 35.0 mm |
FocalLength35efl | 35.0 mm (35 mm equivalent: 35.0 mm) |
FocalLengthIn35mmFormat | 35 mm |
Format | image/jpeg |
FOV | 54.4 deg |
GainControl | Low gain up |
GrainAmount | 0 |
GreenHue | 0 |
GreenSaturation | 0 |
HasCrop | True |
HasSettings | True |
Highlights2012 | -100 |
HueAdjustmentAqua | 0 |
HueAdjustmentBlue | 0 |
HueAdjustmentGreen | 0 |
HueAdjustmentMagenta | 0 |
HueAdjustmentOrange | 0 |
HueAdjustmentPurple | 0 |
HueAdjustmentRed | 0 |
HueAdjustmentYellow | 0 |
HyperfocalDistance | 3.71 m |
ImageHeight | 3492 |
ImageNumber | 8018 |
ImageSize | 5238x3492 |
ImageWidth | 5238 |
ISO | 640 |
Lens | 35.0 mm f/2.0 |
LensID (1) | 66 |
LensID | AF Nikkor 35mm f/2D |
LensInfo | 35mm f/2 |
LensManualDistortionAmount | 0 |
LensModel | 35.0 mm f/2.0 |
LensProfileChromaticAberrationScale | 100 |
LensProfileDistortionScale | 100 |
LensProfileEnable | 0 |
LensProfileFilename | NIKON D3X (Nikon AF NIKKOR 35mm f2D) - RAW.lcp |
LensProfileName | Adobe (Nikon AF NIKKOR 35mm f/2D) |
LensProfileSetup | LensDefaults |
LensProfileVignettingScale | 100 |
LightSource | Unknown |
LightValue | 1.9 |
LuminanceAdjustmentAqua | 0 |
LuminanceAdjustmentBlue | 0 |
LuminanceAdjustmentGreen | 0 |
LuminanceAdjustmentMagenta | 0 |
LuminanceAdjustmentOrange | 0 |
LuminanceAdjustmentPurple | 0 |
LuminanceAdjustmentRed | 0 |
LuminanceAdjustmentYellow | 0 |
LuminanceNoiseReductionContrast | 0 |
LuminanceNoiseReductionDetail | 50 |
LuminanceSmoothing | 77 |
Make | NIKON CORPORATION |
MaxApertureValue | 2.0 |
Megapixels | 18.3 |
MeteringMode | Multi-segment |
Model | NIKON D810 |
ModifyDate (1) | 2015:05:27 20:15:35+08:00 |
ModifyDate | 2015:05:27 20:15:35 |
ParametricDarks | 0 |
ParametricHighlights | 0 |
ParametricHighlightSplit | 75 |
ParametricLights | 0 |
ParametricMidtoneSplit | 50 |
ParametricShadows | 0 |
ParametricShadowSplit | 25 |
PerspectiveAspect | 0 |
PerspectiveHorizontal | 0 |
PerspectiveRotate | 0.0 |
PerspectiveScale | 100 |
PerspectiveUpright | 0 |
PerspectiveVertical | 0 |
PostCropVignetteAmount | 0 |
ProcessVersion | 6.7 |
ProfileDescription | Adobe RGB (1998) |
RedHue | 0 |
RedSaturation | 0 |
Rights | Ole Morten Eyra |
Saturation (1) | +32 |
Saturation | Normal |
SaturationAdjustmentAqua | +100 |
SaturationAdjustmentBlue | -27 |
SaturationAdjustmentGreen | 0 |
SaturationAdjustmentMagenta | 0 |
SaturationAdjustmentOrange | +99 |
SaturationAdjustmentPurple | 0 |
SaturationAdjustmentRed | +87 |
SaturationAdjustmentYellow | +100 |
ScaleFactor35efl | 1.0 |
SceneCaptureType | Standard |
SceneType | Directly photographed |
SensingMethod | One-chip color area |
SensitivityType | Recommended Exposure Index |
SerialNumber | 6014204 |
Shadows2012 | +100 |
ShadowTint | 0 |
SharpenDetail | 25 |
SharpenEdgeMasking | 75 |
SharpenRadius | +0.5 |
Sharpness (1) | 106 |
Sharpness | Normal |
ShutterSpeed | 5 |
ShutterSpeedValue | 5 |
Software | Adobe Photoshop Lightroom 5.7 (Macintosh) |
SplitToningBalance | 0 |
SplitToningHighlightHue | 0 |
SplitToningHighlightSaturation | 0 |
SplitToningShadowHue | 0 |
SplitToningShadowSaturation | 0 |
SubjectDistanceRange | Unknown |
Tint | +13 |
ToneCurve | 0, 0, 255, 255 |
ToneCurveBlue | 0, 0, 255, 255 |
ToneCurveGreen | 0, 0, 255, 255 |
ToneCurveName | Linear |
ToneCurveName2012 | Linear |
ToneCurvePV2012 | 0, 0, 255, 255 |
ToneCurvePV2012Blue | 0, 0, 255, 255 |
ToneCurvePV2012Green | 0, 0, 255, 255 |
ToneCurvePV2012Red | 0, 0, 255, 255 |
ToneCurveRed | 0, 0, 255, 255 |
UserComment | oleeyra@gmail.com |
Version | 8.7 |
Vibrance | 0 |
VignetteAmount | 0 |
WhiteBalance (1) | Custom |
WhiteBalance | Auto |
Whites2012 | +22 |