Felt | Verdi |
AlreadyApplied | True |
Aperture | 4.0 |
ApertureValue | 4.0 |
ApproximateFocusDistance | 3.3 |
Artist | Nils Kolaas |
AutoLateralCA | 0 |
BitsPerSample | 8 |
Blacks2012 | -93 |
BlueHue | 0 |
BlueSaturation | 0 |
By-line | Nils Kolaas |
CameraProfile | Adobe Standard |
Caption-Abstract | OLYMPUS DIGITAL CAMERA |
CFAPattern | [Red,Green][Green,Blue] |
CircleOfConfusion | 0.015 mm |
Clarity2012 | 0 |
ColorComponents | 3 |
ColorNoiseReduction | 25 |
ColorNoiseReductionDetail | 50 |
ColorTemperature | 7350 |
ColorTransform | YCbCr |
Contrast | Normal |
Contrast2012 | 0 |
ConvertToGrayscale | True |
Copyright | Nils Kolaas |
CopyrightNotice | Nils Kolaas |
CreateDate | 2013:06:24 13:03:25 |
Creator | Nils Kolaas |
CreatorTool | Adobe Photoshop Lightroom 5.0 (Windows) |
CustomRendered | Normal |
DateCreated (1) | 2013:06:24 |
DateCreated | 2013:06:24 13:03:25 |
DateTimeOriginal | 2013:06:24 13:03:25 |
Description | OLYMPUS DIGITAL CAMERA |
DigitalZoomRatio | 1 |
DOF | inf (1.39 m - inf) |
Exposure2012 | 0.00 |
ExposureCompensation | +2.3 |
ExposureMode | Manual |
ExposureProgram | Shutter speed priority AE |
ExposureTime | 1/250 |
Flash | On, Did not fire |
FlashCompensation | 0 |
FNumber | 4.0 |
FocalLength | 12.0 mm |
FocalLength35efl | 12.0 mm (35 mm equivalent: 24.0 mm) |
FocalLengthIn35mmFormat | 24 mm |
Format | image/jpeg |
FOV | 73.7 deg |
GainControl | None |
GradientBasedCorrActive | true |
GradientBasedCorrAmount | 1.000000 |
GradientBasedCorrBrightness | 0.000000 |
GradientBasedCorrClarity2012 | 1.000000 |
GradientBasedCorrContrast2012 | 1.000000 |
GradientBasedCorrDefringe | 0.000000 |
GradientBasedCorrExposure2012 | -1.000000 |
GradientBasedCorrHighlights2012 | -1.000000 |
GradientBasedCorrHue | 0.000000 |
GradientBasedCorrLuminanceNoise | 0.000000 |
GradientBasedCorrMaskFullX | 0.387780 |
GradientBasedCorrMaskFullY | 0.163906 |
GradientBasedCorrMaskValue | 1.000000 |
GradientBasedCorrMaskWhat | Mask/Gradient |
GradientBasedCorrMaskZeroX | 0.447894 |
GradientBasedCorrMaskZeroY | 0.678790 |
GradientBasedCorrMoire | 0.000000 |
GradientBasedCorrSaturation | 0.000000 |
GradientBasedCorrShadows2012 | 1.000000 |
GradientBasedCorrSharpness | 0.000000 |
GradientBasedCorrTemperature | 0.057470 |
GradientBasedCorrTint | 0.000000 |
GradientBasedCorrWhat | Correction |
GrainAmount | 0 |
GrayMixerAqua | -18 |
GrayMixerBlue | +9 |
GrayMixerGreen | -27 |
GrayMixerMagenta | +3 |
GrayMixerOrange | -20 |
GrayMixerPurple | +16 |
GrayMixerRed | -10 |
GrayMixerYellow | -24 |
GreenHue | 0 |
GreenSaturation | 0 |
HasCrop | False |
HasSettings | True |
Highlights2012 | 0 |
HyperfocalDistance | 2.40 m |
ImageDescription | OLYMPUS DIGITAL CAMERA |
ImageHeight | 3456 |
ImageSize | 4608x3456 |
ImageWidth | 4608 |
ISO | 200 |
Lens | OLYMPUS M.12-50mm F3.5-6.3 |
LensInfo | 12-50mm f/3.5-6.3 |
LensManualDistortionAmount | 0 |
LensModel | OLYMPUS M.12-50mm F3.5-6.3 |
LensProfileEnable | 0 |
LensProfileSetup | LensDefaults |
LensSerialNumber | ABP346542 |
LightSource | Shade |
LightValue | 11.0 |
LuminanceSmoothing | 0 |
Make | OLYMPUS IMAGING CORP. |
MaxApertureValue | 3.5 |
Megapixels | 15.9 |
MeteringMode | Multi-segment |
Model | E-M5 |
ModifyDate (1) | 2013:08:30 21:26:18+02:00 |
ModifyDate | 2013:08:30 21:26:18 |
ParametricDarks | 0 |
ParametricHighlights | 0 |
ParametricHighlightSplit | 75 |
ParametricLights | 0 |
ParametricMidtoneSplit | 50 |
ParametricShadows | 0 |
ParametricShadowSplit | 25 |
PerspectiveAspect | 0 |
PerspectiveHorizontal | 0 |
PerspectiveRotate | 0.0 |
PerspectiveScale | 100 |
PerspectiveUpright | 0 |
PerspectiveVertical | 0 |
PostCropVignetteAmount | 0 |
ProcessVersion | 6.7 |
ProfileDescription | sRGB IEC61966-2.1 |
RedHue | 0 |
RedSaturation | 0 |
Rights | Nils Kolaas |
Saturation | Normal |
ScaleFactor35efl | 2.0 |
SceneCaptureType | Standard |
SensitivityType | Standard Output Sensitivity |
SerialNumber | BF4516843 |
Shadows2012 | 0 |
ShadowTint | 0 |
SharpenDetail | 25 |
SharpenEdgeMasking | 0 |
SharpenRadius | +1.0 |
Sharpness (1) | 25 |
Sharpness | Normal |
ShutterSpeed | 1/250 |
ShutterSpeedValue | 1/250 |
Software | Adobe Photoshop Lightroom 5.0 (Windows) |
SplitToningBalance | 0 |
SplitToningHighlightHue | 0 |
SplitToningHighlightSaturation | 0 |
SplitToningShadowHue | 0 |
SplitToningShadowSaturation | 0 |
Tint | 0 |
ToneCurveName2012 | Linear |
ToneCurvePV2012 | 0, 0, 255, 255 |
ToneCurvePV2012Blue | 0, 0, 255, 255 |
ToneCurvePV2012Green | 0, 0, 255, 255 |
ToneCurvePV2012Red | 0, 0, 255, 255 |
Version | 8.1 |
VignetteAmount | 0 |
WhiteBalance (1) | As Shot |
WhiteBalance | Manual |
Whites2012 | 0 |