Felt | Verdi |
AlreadyApplied | True |
Aperture | 4.0 |
ApertureValue | 4.0 |
ApproximateFocusDistance | 4 |
Artist | LasseKristiansen |
AutoLateralCA | 0 |
AutoWhiteVersion | 134348800 |
BitsPerSample | 8 |
Blacks2012 | -85 |
BlueHue | 0 |
BlueSaturation | 0 |
By-line | LasseKristiansen |
CameraProfile | Embedded |
CircleOfConfusion | 0.021 mm |
Clarity2012 | +58 |
ColorComponents | 3 |
ColorNoiseReduction | 0 |
ColorSpace | sRGB |
ColorTransform | YCbCr |
Contrast | High |
Contrast2012 | +23 |
ConvertToGrayscale | False |
Copyright | LasseKristiansen |
CopyrightNotice | LasseKristiansen |
CreateDate | 2014:09:12 21:01:44 |
Creator | LasseKristiansen |
CreatorTool | Adobe Photoshop Lightroom 5.3 (Macintosh) |
CropAngle | 0.887875 |
CropBottom | 0.999932 |
CropConstrainToWarp | 0 |
CropLeft | 0.012751 |
CropRight | 0.957194 |
CropTop | 0.020841 |
CustomRendered | Normal |
DateCreated (1) | 2014:09:12 |
DateCreated | 2014:09:12 21:01:44 |
DateTimeOriginal | 2014:09:12 21:01:44 |
DefringeGreenAmount | 0 |
DefringeGreenHueHi | 60 |
DefringeGreenHueLo | 40 |
DefringePurpleAmount | 0 |
DefringePurpleHueHi | 70 |
DefringePurpleHueLo | 30 |
DOF | inf (1.36 m - inf) |
Exposure2012 | +1.45 |
ExposureCompensation | 0 |
ExposureMode | Manual |
ExposureProgram | Manual |
ExposureTime | 0.4 |
Flash | Off, Did not fire |
FNumber | 4.0 |
FocalLength | 13.0 mm |
FocalLength35efl | 13.0 mm (35 mm equivalent: 19.0 mm) |
FocalLengthIn35mmFormat | 19 mm |
Format | image/jpeg |
FOV | 86.9 deg |
GrainAmount | 0 |
GreenHue | 0 |
GreenSaturation | 0 |
HasCrop | True |
HasExtendedXMP | D8055E91F25DA2672388EDBC1E533D66 |
HasSettings | True |
Highlights2012 | +59 |
HueAdjustmentAqua | 0 |
HueAdjustmentBlue | 0 |
HueAdjustmentGreen | 0 |
HueAdjustmentMagenta | 0 |
HueAdjustmentOrange | 0 |
HueAdjustmentPurple | 0 |
HueAdjustmentRed | 0 |
HueAdjustmentYellow | 0 |
HyperfocalDistance | 2.06 m |
ImageHeight | 5742 |
ImageSize | 3828x5742 |
ImageWidth | 3828 |
IncrementalTemperature | 0 |
IncrementalTint | 0 |
ISO | 100 |
Lens | smc PENTAX-DA 10-17mm F3.5-4.5 ED [IF] Fisheye zoom |
LensID (1) | 4 247 |
LensID | smc PENTAX-DA FISH-EYE 10-17mm F3.5-4.5 ED[IF] |
LensInfo | 10-17mm f/3.5-4.5 |
LensManualDistortionAmount | 0 |
LensModel | smc PENTAX-DA 10-17mm F3.5-4.5 ED [IF] Fisheye zoom |
LensProfileEnable | 0 |
LensProfileSetup | LensDefaults |
LightValue | 5.3 |
LuminanceAdjustmentAqua | 0 |
LuminanceAdjustmentBlue | 0 |
LuminanceAdjustmentGreen | 0 |
LuminanceAdjustmentMagenta | 0 |
LuminanceAdjustmentOrange | 0 |
LuminanceAdjustmentPurple | 0 |
LuminanceAdjustmentRed | 0 |
LuminanceAdjustmentYellow | 0 |
LuminanceSmoothing | 0 |
Make | RICOH IMAGING COMPANY, LTD. |
Megapixels | 22.0 |
MeteringMode | Multi-segment |
Model | PENTAX K-3 |
ModifyDate (1) | 2014:09:16 15:45:42+02:00 |
ModifyDate | 2014:09:16 15:45:42 |
PaintCorrectionActive | true |
PaintCorrectionAmount | 1.000000 |
PaintCorrectionBrightness | 0.000000 |
PaintCorrectionClarity2012 (1) | -0.688817 |
PaintCorrectionClarity2012 (2) | 0.162746 |
PaintCorrectionClarity2012 | -0.123157 |
PaintCorrectionContrast2012 (2) | 0.265186 |
PaintCorrectionContrast2012 (3) | 0.000000 |
PaintCorrectionContrast2012 | -0.100948 |
PaintCorrectionDefringe | 0.000000 |
PaintCorrectionExposure2012 (1) | -0.327335 |
PaintCorrectionExposure2012 (2) | -0.188729 |
PaintCorrectionExposure2012 (3) | -0.814607 |
PaintCorrectionExposure2012 | -0.888255 |
PaintCorrectionHighlights2012 (1) | -0.753775 |
PaintCorrectionHighlights2012 (3) | 0.072156 |
PaintCorrectionHighlights2012 | -1.000000 |
PaintCorrectionHue (3) | 58.730499 |
PaintCorrectionHue | 0.000000 |
PaintCorrectionLuminanceNoise | 0.000000 |
PaintCorrectionMaskCenterWeight (1) | 0.000000 |
PaintCorrectionMaskCenterWeight | 0.087707 |
PaintCorrectionMaskFlow (86) | 1.000000 |
PaintCorrectionMaskFlow (9) | 0.873488 |
PaintCorrectionMaskFlow | 0.591353 |
PaintCorrectionMaskRadius (1) | 0.028618 |
PaintCorrectionMaskRadius (18) | 0.004533 |
PaintCorrectionMaskRadius (3) | 0.023769 |
PaintCorrectionMaskRadius (4) | 0.013597 |
PaintCorrectionMaskRadius (49) | 0.007733 |
PaintCorrectionMaskRadius (5) | 0.005458 |
PaintCorrectionMaskRadius (65) | 0.013961 |
PaintCorrectionMaskRadius (76) | 0.013297 |
PaintCorrectionMaskRadius (85) | 0.013599 |
PaintCorrectionMaskRadius | 0.013963 |
PaintCorrectionMaskValue (19) | 0.000000 |
PaintCorrectionMaskValue | 0.490661 |
PaintCorrectionMaskWhat | Mask/Paint |
PaintCorrectionMoire | 0.000000 |
PaintCorrectionSaturation (1) | -0.918276 |
PaintCorrectionSaturation (3) | 0.584182 |
PaintCorrectionSaturation (5) | 0.864730 |
PaintCorrectionSaturation (6) | 0.389453 |
PaintCorrectionSaturation (7) | 0.188641 |
PaintCorrectionSaturation | 0.000000 |
PaintCorrectionShadows2012 (1) | -0.783093 |
PaintCorrectionShadows2012 (3) | -0.778441 |
PaintCorrectionShadows2012 | -1.000000 |
PaintCorrectionSharpness | 0.000000 |
PaintCorrectionTemperature | 0.000000 |
PaintCorrectionTint | 0.000000 |
PaintCorrectionWhat | Correction |
ParametricDarks | 0 |
ParametricHighlights | 0 |
ParametricHighlightSplit | 75 |
ParametricLights | 0 |
ParametricMidtoneSplit | 50 |
ParametricShadows | 0 |
ParametricShadowSplit | 25 |
PerspectiveAspect | 0 |
PerspectiveHorizontal | 0 |
PerspectiveRotate | 0.0 |
PerspectiveScale | 100 |
PerspectiveUpright | 0 |
PerspectiveVertical | 0 |
PostCropVignetteAmount | 0 |
ProcessVersion | 6.7 |
ProfileDescription | sRGB IEC61966-2.1 |
RedHue | 0 |
RedSaturation | 0 |
Rights | LasseKristiansen |
Saturation (1) | 0 |
Saturation | Normal |
SaturationAdjustmentAqua | 0 |
SaturationAdjustmentBlue | 0 |
SaturationAdjustmentGreen | 0 |
SaturationAdjustmentMagenta | 0 |
SaturationAdjustmentOrange | 0 |
SaturationAdjustmentPurple | 0 |
SaturationAdjustmentRed | 0 |
SaturationAdjustmentYellow | 0 |
ScaleFactor35efl | 1.5 |
SceneCaptureType | Standard |
SceneType | Directly photographed |
SensingMethod | One-chip color area |
SensitivityType | Standard Output Sensitivity |
Shadows2012 | +74 |
ShadowTint | 0 |
SharpenDetail | 25 |
SharpenEdgeMasking | 0 |
SharpenRadius | +1.0 |
Sharpness (1) | 0 |
Sharpness | Hard |
ShutterSpeed | 0.4 |
ShutterSpeedValue | 0.4 |
Software | Adobe Photoshop Lightroom 5.3 (Macintosh) |
SplitToningBalance | 0 |
SplitToningHighlightHue | 0 |
SplitToningHighlightSaturation | 0 |
SplitToningShadowHue | 0 |
SplitToningShadowSaturation | 0 |
StandardOutputSensitivity | 100 |
SubjectDistanceRange | Distant |
ToneCurveName2012 | Linear |
ToneCurvePV2012 | 0, 0, 255, 255 |
ToneCurvePV2012Blue | 0, 0, 255, 255 |
ToneCurvePV2012Green | 0, 0, 255, 255 |
ToneCurvePV2012Red | 0, 0, 255, 255 |
Version | 8.3 |
Vibrance | 0 |
VignetteAmount | 0 |
WhiteBalance (1) | As Shot |
WhiteBalance | Manual |
Whites2012 | +69 |