Felt | Verdi |
AlreadyApplied | True |
Aperture | 5.6 |
ApertureValue | 5.6 |
ApproximateFocusDistance | 21.9 |
AutoLateralCA | 0 |
BitsPerSample | 8 |
Blacks2012 | 0 |
BlueHue | 0 |
BlueSaturation | 0 |
CameraProfile | Adobe Standard |
CircleOfConfusion | 0.019 mm |
Clarity2012 | +14 |
ColorComponents | 3 |
ColorMode | RGB |
ColorNoiseReduction | 33 |
ColorNoiseReductionDetail | 54 |
ColorSpace | sRGB |
ColorTemperature | 4850 |
ColorTransform | YCbCr |
Contrast2012 | +27 |
ConvertToGrayscale | False |
CreateDate (1) | 2014:07:22 14:40:45+02:00 |
CreateDate | 2014:07:22 14:40:45 |
CustomRendered | Normal |
DateCreated (1) | 2014:07:22 |
DateCreated | 2014:07:22 14:40:45.069 |
DateTimeOriginal | 2014:07:22 14:40:45 |
DefringeGreenAmount | 0 |
DefringeGreenHueHi | 60 |
DefringeGreenHueLo | 40 |
DefringePurpleAmount | 0 |
DefringePurpleHueHi | 70 |
DefringePurpleHueLo | 30 |
DOF | 1.20 m (21.32 - 22.52 m) |
ExifImageHeight | 3308 |
ExifImageWidth | 4997 |
Exposure2012 | +0.60 |
ExposureCompensation | 0 |
ExposureMode | Auto |
ExposureProgram | Shutter speed priority AE |
ExposureTime | 1/3200 |
Firmware | 2.0.5 |
Flash | Off, Did not fire |
FlashCompensation | 0 |
FNumber | 5.6 |
FocalLength | 291.0 mm |
FocalLength35efl | 291.0 mm (35 mm equivalent: 457.0 mm) |
Format | image/jpeg |
FOV | 4.5 deg |
GrainAmount | 0 |
GreenHue | 0 |
GreenSaturation | 0 |
HasCrop | False |
HasSettings | True |
Highlights2012 | -46 |
HueAdjustmentAqua | 0 |
HueAdjustmentBlue | 0 |
HueAdjustmentGreen | 0 |
HueAdjustmentMagenta | 0 |
HueAdjustmentOrange | 0 |
HueAdjustmentPurple | 0 |
HueAdjustmentRed | 0 |
HueAdjustmentYellow | 0 |
HyperfocalDistance | 790.31 m |
ICCProfileName | sRGB IEC61966-2.1 |
ImageHeight | 3308 |
ImageNumber | 0 |
ImageSize | 4997x3308 |
ImageWidth | 4997 |
ISO | 400 |
Lens | 100-300mm |
LensID (1) | 152 |
LensID | Sigma 100-300mm f/4 |
LensInfo | 100-300mm f/? |
LensManualDistortionAmount | 0 |
LensModel | 100-300mm |
LensProfileEnable | 0 |
LensProfileSetup | LensDefaults |
LightValue | 14.6 |
LuminanceAdjustmentAqua | 0 |
LuminanceAdjustmentBlue | 0 |
LuminanceAdjustmentGreen | 0 |
LuminanceAdjustmentMagenta | 0 |
LuminanceAdjustmentOrange | 0 |
LuminanceAdjustmentPurple | 0 |
LuminanceAdjustmentRed | 0 |
LuminanceAdjustmentYellow | 0 |
LuminanceNoiseReductionContrast | 10 |
LuminanceNoiseReductionDetail | 55 |
LuminanceSmoothing | 10 |
Make | Canon |
MaxApertureValue | 5.7 |
Megapixels | 16.5 |
MeteringMode | Multi-segment |
Model | Canon EOS 7D |
ModifyDate (1) | 2014:07:25 16:25:32+02:00 |
ModifyDate | 2014:07:25 16:25:32 |
Orientation | Horizontal (normal) |
ParametricDarks | 0 |
ParametricHighlights | 0 |
ParametricHighlightSplit | 75 |
ParametricLights | 0 |
ParametricMidtoneSplit | 50 |
ParametricShadows | 0 |
ParametricShadowSplit | 25 |
PerspectiveAspect | 0 |
PerspectiveHorizontal | 0 |
PerspectiveRotate | 0.0 |
PerspectiveScale | 100 |
PerspectiveUpright | 0 |
PerspectiveVertical | 0 |
PostCropVignetteAmount | 0 |
ProcessVersion | 6.7 |
ProfileDescription | sRGB IEC61966-2.1 |
Rating | 0 |
RawFileName | _MG_9173.CR2 |
RecommendedExposureIndex | 400 |
RedHue | 0 |
RedSaturation | 0 |
Saturation | 0 |
SaturationAdjustmentAqua | 0 |
SaturationAdjustmentBlue | 0 |
SaturationAdjustmentGreen | 0 |
SaturationAdjustmentMagenta | 0 |
SaturationAdjustmentOrange | 0 |
SaturationAdjustmentPurple | 0 |
SaturationAdjustmentRed | 0 |
SaturationAdjustmentYellow | 0 |
ScaleFactor35efl | 1.6 |
SceneCaptureType | Standard |
SensitivityType | Recommended Exposure Index |
SerialNumber | 0530517720 |
Shadows2012 | +28 |
ShadowTint | 0 |
SharpenDetail | 25 |
SharpenEdgeMasking | 20 |
SharpenRadius | +1.8 |
Sharpness | 54 |
ShutterSpeed | 1/3200 |
ShutterSpeedValue | 1/3200 |
Software | Adobe Photoshop Elements 12.0 Windows |
SplitToningBalance | 0 |
SplitToningHighlightHue | 0 |
SplitToningHighlightSaturation | 0 |
SplitToningShadowHue | 0 |
SplitToningShadowSaturation | 0 |
Tint | +12 |
ToneCurveName2012 | Linear |
ToneCurvePV2012 | 0, 0, 255, 255 |
ToneCurvePV2012Blue | 0, 0, 255, 255 |
ToneCurvePV2012Green | 0, 0, 255, 255 |
ToneCurvePV2012Red | 0, 0, 255, 255 |
URL_List | |
Version | 8.0 |
Vibrance | 0 |
VignetteAmount | 0 |
WhiteBalance (1) | As Shot |
WhiteBalance | Auto |
Whites2012 | +13 |